BEGIN:VCALENDAR
VERSION:2.0
PRODID:-//Närkes ornitologiska förening - ECPv6.15.17.1//NONSGML v1.0//EN
CALSCALE:GREGORIAN
METHOD:PUBLISH
X-ORIGINAL-URL:https://nof.birdlife.se
X-WR-CALDESC:Händelser för Närkes ornitologiska förening
REFRESH-INTERVAL;VALUE=DURATION:PT1H
X-Robots-Tag:noindex
X-PUBLISHED-TTL:PT1H
BEGIN:VTIMEZONE
TZID:Europe/Stockholm
BEGIN:DAYLIGHT
TZOFFSETFROM:+0100
TZOFFSETTO:+0200
TZNAME:CEST
DTSTART:20190331T010000
END:DAYLIGHT
BEGIN:STANDARD
TZOFFSETFROM:+0200
TZOFFSETTO:+0100
TZNAME:CET
DTSTART:20191027T010000
END:STANDARD
BEGIN:DAYLIGHT
TZOFFSETFROM:+0100
TZOFFSETTO:+0200
TZNAME:CEST
DTSTART:20200329T010000
END:DAYLIGHT
BEGIN:STANDARD
TZOFFSETFROM:+0200
TZOFFSETTO:+0100
TZNAME:CET
DTSTART:20201025T010000
END:STANDARD
BEGIN:DAYLIGHT
TZOFFSETFROM:+0100
TZOFFSETTO:+0200
TZNAME:CEST
DTSTART:20210328T010000
END:DAYLIGHT
BEGIN:STANDARD
TZOFFSETFROM:+0200
TZOFFSETTO:+0100
TZNAME:CET
DTSTART:20211031T010000
END:STANDARD
END:VTIMEZONE
BEGIN:VEVENT
DTSTART;TZID=Europe/Stockholm:20200104T000000
DTEND;TZID=Europe/Stockholm:20200104T160000
DTSTAMP:20260421T035020
CREATED:20190903T084349Z
LAST-MODIFIED:20191218T075103Z
UID:3814-1578096000-1578153600@nof.birdlife.se
SUMMARY:Artracet i Närke 2020 Uppdaterad!
DESCRIPTION:Bästa starten på nya året! \n \nHäng med på denna lättsamma kryssartävling som alltid blir en bra start på nya skådaråret. Bilda ett lag och anmäl dig med kompisen/kompisarna till det här Artracet där det gäller att kryssa så många arter som möjligt i landskapet under en dag. Ställ upp i den klassiska varianten eller i ekoklassen där du bara utnyttjar miljövänliga färdmedel. Start kl. 00 och målgång kl. 16 på Gröna Grodan i Örebro\, där vinnarna koras. Anmäl ditt lag bestående av minst två personer till Håkan Persson med ett sms till 076-551 56 81. Har du ingen att tävla med? Kontakta Håkan så ordnar han plats i ett lag. \nTjejgänget tävlar som vanligt i EKO-klassen och cyklar tillsammans. Anmäl dig till Åsa 073- 332 20 31 eller Ami 070 – 944 73 00. \nMer info kommer här på vår hemsida och på NOF:s facebooksida.
URL:https://nof.birdlife.se/evenemang/artracet-i-narke-2020/
CATEGORIES:Artrace
ATTACH;FMTTYPE=image/jpeg:https://nof.birdlife.se/wp-content/uploads/sites/29/2019/01/race1.jpg
END:VEVENT
BEGIN:VEVENT
DTSTART;TZID=Europe/Stockholm:20200116T190000
DTEND;TZID=Europe/Stockholm:20200116T210000
DTSTAMP:20260421T035020
CREATED:20191120T182737Z
LAST-MODIFIED:20191120T183050Z
UID:3955-1579201200-1579208400@nof.birdlife.se
SUMMARY:Landskap i förvandling
DESCRIPTION:Tidigare kommunbiolog Mats Rosenberg berättar i ord och bild om den stora restaureringen av Oset och Rynningeviken. Han kommer också berätta om sina grundtankar för Kvismaren och Tysslingen. \nPresentation av 2019 vinnare av Ekoskådningen. \nInomhusmöte börjar klockan 19.00 i Vasakyrkan\, Vasagatan 6–8\, Örebro. \nVÄLKOMMEN!
URL:https://nof.birdlife.se/evenemang/landskap-i-forvandling/
LOCATION:Vasakyrkan\, Vasagatan 6-8\, Örebro\, 703 54\, Sverige
CATEGORIES:Inomhusmöte
ATTACH;FMTTYPE=image/jpeg:https://cdn.birdlife.se/wp-content/uploads/sites/29/2019/11/Mats-Rosenberg.jpg
END:VEVENT
BEGIN:VEVENT
DTSTART;TZID=Europe/Stockholm:20200125T100000
DTEND;TZID=Europe/Stockholm:20200125T140000
DTSTAMP:20260421T035020
CREATED:20191120T182814Z
LAST-MODIFIED:20191120T182814Z
UID:3958-1579946400-1579960800@nof.birdlife.se
SUMMARY:Inför Vinterfåglar in på knuten
DESCRIPTION:NOF finns på Granngården i Örebro (Aspholmen) lördagen den 25 januari klockan 10–14. Välkommen!
URL:https://nof.birdlife.se/evenemang/infor-vinterfaglar-in-pa-knuten/
LOCATION:Granngården\, Örebro\, Rörvägen 1C\, Örebro\, 70227\, Sverige
CATEGORIES:Vinterfåglar inpå Knuten
ATTACH;FMTTYPE=image/jpeg:https://nof.birdlife.se/wp-content/uploads/sites/29/2018/12/småfåglar-inpå-knuten.jpg
END:VEVENT
BEGIN:VEVENT
DTSTART;VALUE=DATE:20200131
DTEND;VALUE=DATE:20200204
DTSTAMP:20260421T035021
CREATED:20191120T182827Z
LAST-MODIFIED:20191123T140619Z
UID:3960-1580428800-1580774399@nof.birdlife.se
SUMMARY:Vinterfåglar inpå Knuten
DESCRIPTION:Det är dags för årets stora fågelräkning vid våra fågelbord. NOF räknar fåglar vid Karlslund och Rosenbergstugan i Oset. \nMer info kommer här på hemsidan. \n  \n  \n 
URL:https://nof.birdlife.se/evenemang/vinterfaglar-inpa-knuten-2/
CATEGORIES:Vinterfåglar inpå Knuten
ATTACH;FMTTYPE=image/jpeg:https://nof.birdlife.se/wp-content/uploads/sites/29/2019/01/KslAA.jpg
END:VEVENT
BEGIN:VEVENT
DTSTART;TZID=Europe/Stockholm:20200131T120000
DTEND;TZID=Europe/Stockholm:20200131T140000
DTSTAMP:20260421T035021
CREATED:20191123T125737Z
LAST-MODIFIED:20191206T200929Z
UID:4062-1580472000-1580479200@nof.birdlife.se
SUMMARY:Mer Vinterfåglar inpå knuten
DESCRIPTION:NOF finns på Granngården i Örebro (Aspholmen) fredagen den 31 januari klockan 12–14. \nVälkommen in och prata fåglar\,  fågelmatning och fågelfrön! \n  \n \nVälkommen!\n 
URL:https://nof.birdlife.se/evenemang/mer-vinterfaglar-inpa-knuten/
LOCATION:Granngården\, Örebro\, Rörvägen 1C\, Örebro\, 70227\, Sverige
CATEGORIES:Vinterfåglar inpå Knuten
ATTACH;FMTTYPE=image/jpeg:https://cdn.birdlife.se/wp-content/uploads/sites/29/2019/11/Vinterf%C3%A5glar-inp%C3%A5-knuten.jpg
END:VEVENT
END:VCALENDAR