BEGIN:VCALENDAR
VERSION:2.0
PRODID:-//Närkes ornitologiska förening - ECPv6.15.17.1//NONSGML v1.0//EN
CALSCALE:GREGORIAN
METHOD:PUBLISH
X-ORIGINAL-URL:https://nof.birdlife.se
X-WR-CALDESC:Händelser för Närkes ornitologiska förening
REFRESH-INTERVAL;VALUE=DURATION:PT1H
X-Robots-Tag:noindex
X-PUBLISHED-TTL:PT1H
BEGIN:VTIMEZONE
TZID:Europe/Stockholm
BEGIN:DAYLIGHT
TZOFFSETFROM:+0100
TZOFFSETTO:+0200
TZNAME:CEST
DTSTART:20190331T010000
END:DAYLIGHT
BEGIN:STANDARD
TZOFFSETFROM:+0200
TZOFFSETTO:+0100
TZNAME:CET
DTSTART:20191027T010000
END:STANDARD
BEGIN:DAYLIGHT
TZOFFSETFROM:+0100
TZOFFSETTO:+0200
TZNAME:CEST
DTSTART:20200329T010000
END:DAYLIGHT
BEGIN:STANDARD
TZOFFSETFROM:+0200
TZOFFSETTO:+0100
TZNAME:CET
DTSTART:20201025T010000
END:STANDARD
BEGIN:DAYLIGHT
TZOFFSETFROM:+0100
TZOFFSETTO:+0200
TZNAME:CEST
DTSTART:20210328T010000
END:DAYLIGHT
BEGIN:STANDARD
TZOFFSETFROM:+0200
TZOFFSETTO:+0100
TZNAME:CET
DTSTART:20211031T010000
END:STANDARD
END:VTIMEZONE
BEGIN:VEVENT
DTSTART;VALUE=DATE:20200131
DTEND;VALUE=DATE:20200204
DTSTAMP:20260421T020509
CREATED:20191120T182827Z
LAST-MODIFIED:20191123T140619Z
UID:3960-1580428800-1580774399@nof.birdlife.se
SUMMARY:Vinterfåglar inpå Knuten
DESCRIPTION:Det är dags för årets stora fågelräkning vid våra fågelbord. NOF räknar fåglar vid Karlslund och Rosenbergstugan i Oset. \nMer info kommer här på hemsidan. \n  \n  \n 
URL:https://nof.birdlife.se/evenemang/vinterfaglar-inpa-knuten-2/
CATEGORIES:Vinterfåglar inpå Knuten
ATTACH;FMTTYPE=image/jpeg:https://nof.birdlife.se/wp-content/uploads/sites/29/2019/01/KslAA.jpg
END:VEVENT
BEGIN:VEVENT
DTSTART;TZID=Europe/Stockholm:20200201T093000
DTEND;TZID=Europe/Stockholm:20200201T130000
DTSTAMP:20260421T020509
CREATED:20191206T144519Z
LAST-MODIFIED:20191206T144826Z
UID:4102-1580549400-1580562000@nof.birdlife.se
SUMMARY:Vinterfåglar inpå knuten med tjejgruppen
DESCRIPTION:Vi träffas vid Skebäcksparkeringen för en promenad runt Oset kl 09.30. Ta gärna med matsäck till rasten i Erik Rosenbergsstugan. \nInfo: Åsa 073- 332 20 31 eller Ami 070 – 944 73 00.
URL:https://nof.birdlife.se/evenemang/vinterfaglar-inpa-knuten-med-tjejgruppen/
LOCATION:Oset\, Skebäcksvägen 54\, Örebro\, 702 15\, Sverige
CATEGORIES:Vinterfåglar inpå Knuten
ATTACH;FMTTYPE=image/jpeg:https://nof.birdlife.se/wp-content/uploads/sites/29/2019/01/KslAA.jpg
END:VEVENT
BEGIN:VEVENT
DTSTART;TZID=Europe/Stockholm:20200201T100000
DTEND;TZID=Europe/Stockholm:20200201T140000
DTSTAMP:20260421T020509
CREATED:20191206T143056Z
LAST-MODIFIED:20191212T090144Z
UID:4096-1580551200-1580565600@nof.birdlife.se
SUMMARY:Ännu mer Vinterfåglar in på knuten
DESCRIPTION:Välkommen in och prata fågelmatning och fågelfrön! \nNOF finns på Granngården i Örebro (Aspholmen) lördagen den 1 februari klockan 10–14. Välkommen!
URL:https://nof.birdlife.se/evenemang/4096/
LOCATION:Granngården\, Örebro\, Rörvägen 1C\, Örebro\, 70227\, Sverige
CATEGORIES:Vinterfåglar inpå Knuten
END:VEVENT
BEGIN:VEVENT
DTSTART;TZID=Europe/Stockholm:20200220T190000
DTEND;TZID=Europe/Stockholm:20200220T210000
DTSTAMP:20260421T020509
CREATED:20191122T135623Z
LAST-MODIFIED:20191123T213435Z
UID:3975-1582225200-1582232400@nof.birdlife.se
SUMMARY:Fågelbilder\, naturupplevelser och Årsmöte
DESCRIPTION:Vackra fågelbilder med Torbjörn Arvidson. I samband med att Närkes Ornitologiska Förening genomför sitt årsmöte visar naturfotograf Torbjörn Arvidson fågelbilder och naturupplevelser från det gångna året. Årets Gulsparv utses. \n     \nFjällripa och lappuggla är några av de bilder vi kommer att få se under kvällens bildvisning. \nVÄLKOMNA! Klockan 19 i Vasakyrkan\, Vasagatan 6–8\, Örebro.
URL:https://nof.birdlife.se/evenemang/fagelbilder-naturupplevelser-och-arsmote/
LOCATION:Vasakyrkan\, Vasagatan 6-8\, Örebro\, 703 54\, Sverige
CATEGORIES:Årsmöte
ATTACH;FMTTYPE=image/jpeg:https://cdn.birdlife.se/wp-content/uploads/sites/29/2019/11/3-Torbj%C3%B6rn-mindre-bild.jpg
END:VEVENT
BEGIN:VEVENT
DTSTART;TZID=Europe/Stockholm:20200223T093000
DTEND;TZID=Europe/Stockholm:20200223T130000
DTSTAMP:20260421T020509
CREATED:20191122T132655Z
LAST-MODIFIED:20191122T132655Z
UID:3973-1582450200-1582462800@nof.birdlife.se
SUMMARY:Garphyttans Nationalpark
DESCRIPTION:Årets första stora exkursion till ett vinterklätt landskap i Kilsbergen. Klä dig varmt\, ta med något att grilla och följ med ut i den vackra naturen. Tillsammans med Östernärkes Naturvårdsförening. Samling P-platsen\, Garphyttans nationalpark klockan 09.30 söndag 23 februari. För mer info: Lars Johansson\, 070-558 99 06.
URL:https://nof.birdlife.se/evenemang/garphyttans-nationalpark/
LOCATION:Garphyttans nationalpark\, Garphyttans nationalpark\, Vintrosa\, Örebro\, 71993\, Sverige
CATEGORIES:Exkursion
ATTACH;FMTTYPE=image/jpeg:https://cdn.birdlife.se/wp-content/uploads/sites/29/2019/11/Garphyttan-2018-mindre-storlek.jpg
END:VEVENT
BEGIN:VEVENT
DTSTART;TZID=Europe/Stockholm:20200229T090000
DTEND;TZID=Europe/Stockholm:20200229T130000
DTSTAMP:20260421T020509
CREATED:20191122T155918Z
LAST-MODIFIED:20191123T093335Z
UID:3981-1582966800-1582981200@nof.birdlife.se
SUMMARY:Nu börjar svanarna anlända till Tysslingen
DESCRIPTION:Guidning vid Rånnesta\, Tysslingen – lördag 29 februari – söndag 1 mars .\nVarje lördag och söndag under mars månad t.o.m. 29 mars klockan 9–13\, finns våra duktiga guider från Närkes Ornitologiska Förening på plats för att berätta för intresserade om svanarna och alla andra vårfåglar. \nVÄLKOMMEN TILL SVANSJÖN\, Rånnesta Tysslingen!
URL:https://nof.birdlife.se/evenemang/nu-borjar-svanarna-anlanda-till-tysslingen/
LOCATION:Rånnesta\, Tysslingen\, Svansjön Tysslingen\, 70592\, Sverige
CATEGORIES:Guidning
END:VEVENT
BEGIN:VEVENT
DTSTART;TZID=Europe/Stockholm:20200229T100000
DTEND;TZID=Europe/Stockholm:20200229T120000
DTSTAMP:20260421T020509
CREATED:20191122T155905Z
LAST-MODIFIED:20191122T160059Z
UID:3979-1582970400-1582977600@nof.birdlife.se
SUMMARY:Årets örnräkning
DESCRIPTION:Örnräkning sker runt hela Hjälmaren och Mälaren mellan klockan 10-12. Mer info kommer här på vår hemsida där platserna för örnräkningen kommer att ske.
URL:https://nof.birdlife.se/evenemang/arets-ornrakning/
CATEGORIES:Örnräkning
ATTACH;FMTTYPE=image/jpeg:https://nof.birdlife.se/wp-content/uploads/sites/29/2018/10/kungsörn.jpg
END:VEVENT
END:VCALENDAR