BEGIN:VCALENDAR
VERSION:2.0
PRODID:-//Närkes ornitologiska förening - ECPv6.15.17.1//NONSGML v1.0//EN
CALSCALE:GREGORIAN
METHOD:PUBLISH
X-WR-CALNAME:Närkes ornitologiska förening
X-ORIGINAL-URL:https://nof.birdlife.se
X-WR-CALDESC:Händelser för Närkes ornitologiska förening
REFRESH-INTERVAL;VALUE=DURATION:PT1H
X-Robots-Tag:noindex
X-PUBLISHED-TTL:PT1H
BEGIN:VTIMEZONE
TZID:Europe/Stockholm
BEGIN:DAYLIGHT
TZOFFSETFROM:+0100
TZOFFSETTO:+0200
TZNAME:CEST
DTSTART:20190331T010000
END:DAYLIGHT
BEGIN:STANDARD
TZOFFSETFROM:+0200
TZOFFSETTO:+0100
TZNAME:CET
DTSTART:20191027T010000
END:STANDARD
BEGIN:DAYLIGHT
TZOFFSETFROM:+0100
TZOFFSETTO:+0200
TZNAME:CEST
DTSTART:20200329T010000
END:DAYLIGHT
BEGIN:STANDARD
TZOFFSETFROM:+0200
TZOFFSETTO:+0100
TZNAME:CET
DTSTART:20201025T010000
END:STANDARD
BEGIN:DAYLIGHT
TZOFFSETFROM:+0100
TZOFFSETTO:+0200
TZNAME:CEST
DTSTART:20210328T010000
END:DAYLIGHT
BEGIN:STANDARD
TZOFFSETFROM:+0200
TZOFFSETTO:+0100
TZNAME:CET
DTSTART:20211031T010000
END:STANDARD
END:VTIMEZONE
BEGIN:VEVENT
DTSTART;TZID=Europe/Stockholm:20200501T070000
DTEND;TZID=Europe/Stockholm:20200501T120000
DTSTAMP:20260420T211531
CREATED:20191212T201058Z
LAST-MODIFIED:20191214T191557Z
UID:4116-1588316400-1588334400@nof.birdlife.se
SUMMARY:Traditionell vårvandring i Oset
DESCRIPTION:Årets 1 majvandring genom det stadsnära naturreservatet Oset. \n Hur långt har våren kommit\, är vårfåglarna på plats? Det blir en härlig promenad under flera timmar\, så ta gärna med fika. \n Exkursionen utgår från Skebäcksparkeringen med samling kl. 7.  \nVälkommen med i vårens tider! \nMer information Lars Johansson 070 558 99 06.
URL:https://nof.birdlife.se/evenemang/traditionell-varvandring-i-oset/
LOCATION:Oset\, Skebäcksvägen 54\, Örebro\, 702 15\, Sverige
CATEGORIES:Osetexkursion
ATTACH;FMTTYPE=image/jpeg:https://nof.birdlife.se/wp-content/uploads/sites/29/2019/03/Oset-Lars-J.jpg
END:VEVENT
BEGIN:VEVENT
DTSTART;TZID=Europe/Stockholm:20200503T070000
DTEND;TZID=Europe/Stockholm:20200503T120000
DTSTAMP:20260420T211531
CREATED:20191212T201154Z
LAST-MODIFIED:20191214T183154Z
UID:4137-1588489200-1588507200@nof.birdlife.se
SUMMARY:Möt våren i maj - Osetguidning
DESCRIPTION:Följ med på en promenad i Oset nu när vårfåglarna anländer!  \nExkursionen utgår från Skebäcksparkeringen med samling kl. 7. Ta gärna med fika! \nMer information Lars Johansson 070 558 99 06.
URL:https://nof.birdlife.se/evenemang/mot-varen-i-maj-osetguidning/
LOCATION:Oset\, Skebäcksvägen 54\, Örebro\, 702 15\, Sverige
CATEGORIES:Osetexkursion
ATTACH;FMTTYPE=image/jpeg:https://cdn.birdlife.se/wp-content/uploads/sites/29/2019/12/Oset-mindre-1.jpg
END:VEVENT
BEGIN:VEVENT
DTSTART;TZID=Europe/Stockholm:20200505T173000
DTEND;TZID=Europe/Stockholm:20200505T200000
DTSTAMP:20260420T211531
CREATED:20191212T201223Z
LAST-MODIFIED:20191216T054803Z
UID:4139-1588699800-1588708800@nof.birdlife.se
SUMMARY:Näsbytornet med tjejgruppen.
DESCRIPTION:Ami&Åsas tjejgrupp \n  \nNu börjar en spännande tid med nyanlända fåglar vid södra änden av Oset. \nSamling kl 17.30 vid tornet. Info: Åsa 073- 332 20 31 eller Ami 070 – 944 73 00.
URL:https://nof.birdlife.se/evenemang/nasbytornet-med-tjejgruppen/
LOCATION:Näsbytornet\, Ormestagatan\, Örebro\, Sverige
CATEGORIES:Ami&Åsas tjejgrupp
ATTACH;FMTTYPE=image/jpeg:https://cdn.birdlife.se/wp-content/uploads/sites/29/2019/12/Oset1AA.jpg
END:VEVENT
BEGIN:VEVENT
DTSTART;TZID=Europe/Stockholm:20200506T180000
DTEND;TZID=Europe/Stockholm:20200506T203000
DTSTAMP:20260420T211531
CREATED:20191212T201310Z
LAST-MODIFIED:20191214T181734Z
UID:4141-1588788000-1588797000@nof.birdlife.se
SUMMARY:Kvällsguidning i Oset
DESCRIPTION:Välkommen med på en kvällexkursion för att se vilka vårfåglar som kommit. \n Exkursionen utgår från Skebäcksparkeringen  med samling kl. 18.  \nTa gärna med fika! \nMer info: Lars Johansson 070 558 99 06.
URL:https://nof.birdlife.se/evenemang/kvallsguidning-i-oset-2/
LOCATION:Oset\, Skebäcksvägen 54\, Örebro\, 702 15\, Sverige
CATEGORIES:Osetexkursion
ATTACH;FMTTYPE=image/jpeg:https://nof.birdlife.se/wp-content/uploads/sites/29/2019/07/I-Erik-Rosenbergs-fotspår-11-juli-2019-6-mindre.jpg
END:VEVENT
BEGIN:VEVENT
DTSTART;TZID=Europe/Stockholm:20200507T210000
DTEND;TZID=Europe/Stockholm:20200507T223000
DTSTAMP:20260420T211531
CREATED:20191212T201342Z
LAST-MODIFIED:20191214T181932Z
UID:4146-1588885200-1588890600@nof.birdlife.se
SUMMARY:Spel i natten vid Ruinen\, Rånnesta
DESCRIPTION:Dubbelbeckasinen och dvärgbeckasinen spelar bara en kort tid i Tysslingen. \nHar vi prickat rätt datum? Håll korpgluggarna öppna för mer info på vår hemsida och facebooksidan!
URL:https://nof.birdlife.se/evenemang/spel-i-natten-vid-ruinen-rannesta/
LOCATION:Rånnesta\, Tysslingen\, Svansjön Tysslingen\, 70592\, Sverige
CATEGORIES:Kvällsexkursion
ATTACH;FMTTYPE=image/jpeg:https://nof.birdlife.se/wp-content/uploads/sites/29/2019/03/Dubbelbeckasinlyssning.jpg
END:VEVENT
BEGIN:VEVENT
DTSTART;TZID=Europe/Stockholm:20200509T000000
DTEND;TZID=Europe/Stockholm:20200509T120000
DTSTAMP:20260420T211531
CREATED:20200209T103141Z
LAST-MODIFIED:20200509T100405Z
UID:5107-1588982400-1589025600@nof.birdlife.se
SUMMARY:Inställt -Tåkern med Omberg lördag 9 maj – söndag 10 maj 2020
DESCRIPTION:Den härliga skådarresa är inställd pga coronatiderna! \nAvresa i minibussar lördag morgon kl 7 från Haga C till Tåkerns Naturum i Glänås. \nVi tillbringar lördag och söndag morgon med att skåda runt Tåkern. Övernattning på Omberg i Stocklycke vandrarhem där det finns dusch och kök/matsal. \nUnder söndagen får vi också information av en lokal guide och gör små avstickare med kikaren runt halsen i några av Ekoparkens naturreservat. \nAnmälan via mail till Gunnar Bergeå\, gbsteglits@hotmail.com.
URL:https://nof.birdlife.se/evenemang/takern-med-omberg-lordag-9-maj-sondag-10-maj-2020/
CATEGORIES:Fågelresa
ATTACH;FMTTYPE=image/jpeg:https://cdn.birdlife.se/wp-content/uploads/sites/29/2020/02/T%C3%A5kern-Bild-Marianne-Johanson-scaled.jpg
END:VEVENT
BEGIN:VEVENT
DTSTART;TZID=Europe/Stockholm:20200509T050000
DTEND;TZID=Europe/Stockholm:20200509T130000
DTSTAMP:20260420T211531
CREATED:20200424T091616Z
LAST-MODIFIED:20200424T091616Z
UID:5458-1589000400-1589029200@nof.birdlife.se
SUMMARY:Nyhet - Lilla Fågeltornskampen 9 maj 2020 - Nyhet
DESCRIPTION:Den stora Fågeltornskampen lördagen den 9 maj är inställd på grund av Coronaviruset. \nRestriktionerna kring Coronaviruset gör att den stora Fågeltornskampen ställs in. \nMen i Närke kör vi en liten Fågeltornskamp den 9 maj där vi begränsar hur många som kan vara i tornen samtidigt.\nTre torn är hittills anmälda: Rysjötornet i Kvismaren\, Björka lertag i Kumla och Norra tornet i Tysslingen. \nRedan förra året införde vi ett handikappsystem eftersom tornen har så olika förutsättningar. Så blir det också i år. Mer information om det kommer ut till deltagarna i de olika tävlande tornen. \n  \nVill du också delta? I år behöver man inte vara i ett torn\, det går bra att skåda från sin tomt\, eller från en annan begränsad plats: till exempel vid Rosenbergsstugan i Oset. Hör av dig till tävlingsledaren Kent Halttunen mobil 070 216 11 30 eller kent.halttunen@tele2.se.
URL:https://nof.birdlife.se/evenemang/nyhet-lilla-fageltornskampen-9-maj-2020-nyhet/
CATEGORIES:Exkursion
ATTACH;FMTTYPE=image/jpeg:https://nof.birdlife.se/wp-content/uploads/sites/29/2019/05/fågeltornskampen-2019-Tysslingen.jpg
END:VEVENT
BEGIN:VEVENT
DTSTART;TZID=Europe/Stockholm:20200509T060000
DTEND;TZID=Europe/Stockholm:20200509T120000
DTSTAMP:20260420T211531
CREATED:20191212T201405Z
LAST-MODIFIED:20200509T100631Z
UID:4149-1589004000-1589025600@nof.birdlife.se
SUMMARY:Fågeltornskampen 2020
DESCRIPTION:Fågeltornskampen är inställd! NOF kör en annan variant  se Lilla Fågeltornskampen! \nFågelskådare i Sverige\, Finland och Danmark tävlar denna dag i fågelskådning.  \nMellan kl. 5.00 och 13.00 bemannar fågelskådare olika fågeltorn och räknar alla arter man kan se under denna tid.  \nNOF deltar med flera lag i fågeltorn ibland annat Kvismaren\, Oset och Tysslingen.  \nVill du delta eller anmäla eget torn i tävlan kontakta Kent Halttunen\, 070 216 11 30\, kent.halttunen@tele2.se.  \nMer info kommer på hemsidan och facebooksidan. \n 
URL:https://nof.birdlife.se/evenemang/fageltornskampen-2020/
LOCATION:Närke
CATEGORIES:Fågeltornskampen
ATTACH;FMTTYPE=image/jpeg:https://cdn.birdlife.se/wp-content/uploads/sites/29/2019/12/f%C3%A5geltornskampen_tysslingen.jpg
END:VEVENT
BEGIN:VEVENT
DTSTART;TZID=Europe/Stockholm:20200510T070000
DTEND;TZID=Europe/Stockholm:20200510T120000
DTSTAMP:20260420T211531
CREATED:20191212T200922Z
LAST-MODIFIED:20191215T071642Z
UID:4151-1589094000-1589112000@nof.birdlife.se
SUMMARY:Fågelskådningens dag 2020
DESCRIPTION:Välkommen med på Fågelskådningens dag! Hur långt har våren kommit i Oset? \n Lars Johansson guidar runt i Oset.  \nExkursionen utgår från Skebäcksparkeringen med samling kl. 7. \nMer information Lars Johansson 070 558 99 06.
URL:https://nof.birdlife.se/evenemang/fagelskadningens-dag-2020/
LOCATION:Närke
CATEGORIES:Fågelskådningens dag
ATTACH;FMTTYPE=image/jpeg:https://cdn.birdlife.se/wp-content/uploads/sites/29/2019/12/Oset-mindre-3.jpg
END:VEVENT
BEGIN:VEVENT
DTSTART;TZID=Europe/Stockholm:20200513T180000
DTEND;TZID=Europe/Stockholm:20200513T203000
DTSTAMP:20260420T211531
CREATED:20191214T192702Z
LAST-MODIFIED:20191214T200158Z
UID:4180-1589392800-1589401800@nof.birdlife.se
SUMMARY:Välkommen på kvällsguidning i Oset
DESCRIPTION:Har svarthakedopping kommit?  Följ med och spana över maderna i Oset. \nKvällexkursionen utgår från Skebäcksparkeringen med samling kl. 18 den 13 maj. \nMer info: Lars Johansson 070 558 99 06.
URL:https://nof.birdlife.se/evenemang/valkommen-pa-kvallsguidning-i-oset/
LOCATION:Oset\, Skebäcksvägen 54\, Örebro\, 702 15\, Sverige
CATEGORIES:Kvällsexkursion,Osetexkursion
ATTACH;FMTTYPE=image/jpeg:https://nof.birdlife.se/wp-content/uploads/sites/29/2019/02/svarthakedopping-torbjörn-a.jpg
END:VEVENT
BEGIN:VEVENT
DTSTART;TZID=Europe/Stockholm:20200513T190000
DTEND;TZID=Europe/Stockholm:20200513T210000
DTSTAMP:20260420T211531
CREATED:20200225T172859Z
LAST-MODIFIED:20200225T173243Z
UID:5189-1589396400-1589403600@nof.birdlife.se
SUMMARY:Vad finns det för spännande fåglar i Viaskogen?
DESCRIPTION:Välkommen att upptäcka denna skogspärla i Kumla. Du brukar kanske ta en promenad eller löptur i Viaskogen? Nu får du chans att bekanta dig med fågellivet där. Det blir en kvällsguidning i Viaskogen klockan 19.00 – 21.00 \nIngen anmälan eller avgift. Inte heller några förkunskaper krävs! Ta med kikare om du har\, men framför allt spetsade öron\, då vi säkert kommer att höra fler fåglar än vad vi ser. \nMer info: Bengt Andersson\, Närkes Ornitologiska Förening 070-693 33 65. \n  \nHitta till Viaskogen\nViaskogens naturreservat ligger i södra delen av Kumla tätort i direkt anslutning till Köpmangatans södra del. Vid reservatsgränsen finns parkeringsplatser och informationstavlor. Södra änden av Vialundsvägen.
URL:https://nof.birdlife.se/evenemang/vad-finns-det-for-spannande-faglar-i-viaskogen/
LOCATION:Viaskogen\, Kumla\, Viaspåret\, Viaskogen\, Köpmangatan\,\, Kumla\, 692 80\, Sverige
CATEGORIES:Guidning
ATTACH;FMTTYPE=image/jpeg:https://cdn.birdlife.se/wp-content/uploads/sites/29/2020/02/Brandkronad-kungsf%C3%A5gel.jpg
END:VEVENT
BEGIN:VEVENT
DTSTART;TZID=Europe/Stockholm:20200516T070000
DTEND;TZID=Europe/Stockholm:20200516T090000
DTSTAMP:20260420T211531
CREATED:20200225T172652Z
LAST-MODIFIED:20200225T173306Z
UID:5194-1589612400-1589619600@nof.birdlife.se
SUMMARY:En morgontur med fåglarna i Viaskogen
DESCRIPTION:Guidningen i Viaskogen fortsätter med en morgonguidning. Ta gärna med kikare om du har\, men framför allt spetsade öron\, då vi säkert kommer att höra fler fåglar än vad vi ser. \nIngen anmälan eller avgift. Inte heller några förkunskaper krävs! \nVarmt välkommen ut i fågelskogen! \nMer info: Bengt Andersson\, Närkes Ornitologiska Förening 070-693 33 65. \n 
URL:https://nof.birdlife.se/evenemang/en-morgontur-med-faglarna-i-viaskogen/
LOCATION:Viaskogen\, Kumla\, Viaspåret\, Viaskogen\, Köpmangatan\,\, Kumla\, 692 80\, Sverige
CATEGORIES:Guidning
ATTACH;FMTTYPE=image/png:https://cdn.birdlife.se/wp-content/uploads/sites/29/2020/02/Karta-till-Viaskogen-1.png
END:VEVENT
BEGIN:VEVENT
DTSTART;TZID=Europe/Stockholm:20200517T070000
DTEND;TZID=Europe/Stockholm:20200517T120000
DTSTAMP:20260420T211531
CREATED:20191214T200045Z
LAST-MODIFIED:20191216T192208Z
UID:4182-1589698800-1589716800@nof.birdlife.se
SUMMARY:Söndagsvandring i Oset!
DESCRIPTION:Nu är våren här? Välkommen att följa med och kryssa vårfåglarna.  \nExkursionen utgår från Skebäcksparkeringen klockan 07.00 den 17 maj. \nTa med fikakorg för rasten vid Erik Rosenbergsstugan! \nMer information Lars Johansson 070 558 99 06.
URL:https://nof.birdlife.se/evenemang/sondagsvandring-i-oset/
LOCATION:Oset\, Skebäcksvägen 54\, Örebro\, 702 15\, Sverige
CATEGORIES:Osetexkursion
ATTACH;FMTTYPE=image/jpeg:https://cdn.birdlife.se/wp-content/uploads/sites/29/2019/12/Oset-mindre-4.jpg
END:VEVENT
BEGIN:VEVENT
DTSTART;TZID=Europe/Stockholm:20200520T180000
DTEND;TZID=Europe/Stockholm:20200520T203000
DTSTAMP:20260420T211531
CREATED:20191214T200010Z
LAST-MODIFIED:20191216T192630Z
UID:4184-1589997600-1590006600@nof.birdlife.se
SUMMARY:Har vadarna kommit till Oset?
DESCRIPTION:Tofsvipor och de andra vadarna\, är de på plats? \nKvällexkursionen utgår från Skebäcksparkeringen  klockan 18.00 onsdag 20 maj. \nVälkommen med på en vacker tur i Oset! \n Mer info: Lars Johansson 070 558 99 06.
URL:https://nof.birdlife.se/evenemang/har-vadarna-kommit-till-oset/
LOCATION:Oset\, Skebäcksvägen 54\, Örebro\, 702 15\, Sverige
CATEGORIES:Kvällsexkursion,Osetexkursion
ATTACH;FMTTYPE=image/jpeg:https://nof.birdlife.se/wp-content/uploads/sites/29/2019/03/Oset-2.jpg
END:VEVENT
BEGIN:VEVENT
DTSTART;TZID=Europe/Stockholm:20200523T200000
DTEND;TZID=Europe/Stockholm:20200523T230000
DTSTAMP:20260420T211531
CREATED:20200306T202515Z
LAST-MODIFIED:20200517T195045Z
UID:5224-1590264000-1590274800@nof.birdlife.se
SUMMARY:Ändring av programpunkten - Morkullekväll i Kilsbergen med korvgrillning - byts till mys på Venan!
DESCRIPTION:Kanske inte morkullorna spelar på Venan men det blir mys där istället! \nKvällsfågellyssning med lätt promenad och korvgrillning i skymningen vid Venastugan. Kom per cykel eller till fots. Parkering finns 500 m bort vid bommen. Ta med korv/fika\, kikare\, myggolja o lämplig klädsel. \nGuider: Anastasia Valenta och Gunnar Bergeå. Info 073 314 94 64. \nSamling vid Venastugan kl 20.00 och med matsäck och egen korv! \n  \nMorkullorna spelar förhoppningsvis och vi lyssnar efter andra skymningsljud med Gunnar Bergeå och Anastasia Oliver som guidar oss i natten! \nTuren går till Falkaberget och om skjutfältet är öppet drar vi vidare dit. \nTa med matsäck och egen korv. \nSamling vid Haga Centrum kl 20.00 för samåkning.
URL:https://nof.birdlife.se/evenemang/morkullekvall-i-kilsbergen-med-korvgrillning/
ATTACH;FMTTYPE=image/png:https://cdn.birdlife.se/wp-content/uploads/sites/29/2020/03/Morkulla-Hans-Melin.png
END:VEVENT
BEGIN:VEVENT
DTSTART;TZID=Europe/Stockholm:20200524T070000
DTEND;TZID=Europe/Stockholm:20200524T120000
DTSTAMP:20260420T211531
CREATED:20191214T195944Z
LAST-MODIFIED:20191216T193344Z
UID:4187-1590303600-1590321600@nof.birdlife.se
SUMMARY:Nu är det dags för våra sångare\, har de kommit?
DESCRIPTION:Välkommen till Oset för att följa vårens ankomst! \nHar näktergalen kommit och sjunger rosenfinken? Följ med på vandring genom Oset.  \nExkursionen utgår från Skebäcksparkeringen klockan 07.00 söndag den 24 maj. \nTa gärna med fika! \nMer information Lars Johansson 070 558 99 06.
URL:https://nof.birdlife.se/evenemang/nu-ar-det-dags-for-vara-sangare-har-de-kommit/
LOCATION:Oset\, Skebäcksvägen 54\, Örebro\, 702 15\, Sverige
CATEGORIES:Osetexkursion
ATTACH;FMTTYPE=image/jpeg:https://cdn.birdlife.se/wp-content/uploads/sites/29/2019/12/Oset-mindre-6.jpg
END:VEVENT
BEGIN:VEVENT
DTSTART;TZID=Europe/Stockholm:20200525T180000
DTEND;TZID=Europe/Stockholm:20200525T210000
DTSTAMP:20260420T211531
CREATED:20200521T071350Z
LAST-MODIFIED:20200521T092728Z
UID:5587-1590429600-1590440400@nof.birdlife.se
SUMMARY:NYHET - Biologisk mångfald i odlingslandskapet
DESCRIPTION:Det blir en promenad i rikt och fattig landsbygdslandskap. Måndag 25 maj\, samling vid Norrbyås kyrka klockan 18.00 för vidare transport till exkursionsmålet. Vi håller på till senast kl 21.00. Guide är Lars Johansson\, 070-558 99 06. Ta gärna med kaffekorg. \nVälkommen!
URL:https://nof.birdlife.se/evenemang/biologisk-mangfald-i-odlingslandskapet/
ATTACH;FMTTYPE=image/jpeg:https://cdn.birdlife.se/wp-content/uploads/sites/29/2020/05/Lars-Johansson-visar-sin-biologiska-odling.jpg
END:VEVENT
BEGIN:VEVENT
DTSTART;TZID=Europe/Stockholm:20200526T173000
DTEND;TZID=Europe/Stockholm:20200526T203000
DTSTAMP:20260420T211531
CREATED:20191214T195917Z
LAST-MODIFIED:20200523T083141Z
UID:4189-1590514200-1590525000@nof.birdlife.se
SUMMARY:PROGRAMÄNDRING - Exkursion till Kvismaren! - Blir en tur i Oset
DESCRIPTION:Ami&Åsas tjejgrupp \nI dessa coronatider blir det en programändring \nEn tur i Oset med samling vid Erik Rosenbergsstugan kl 17.30 den 26 maj \nNu anländer änder och vadarna i stora mängder till Oset! \nOch glöm inte matsäcken! \n  \n 
URL:https://nof.birdlife.se/evenemang/exkursion-till-kvismaren/
LOCATION:Oset\, Erik Rosenbergs stuga\, Örebro\, 705 95\, Sverige
CATEGORIES:Ami&Åsas tjejgrupp
ATTACH;FMTTYPE=image/jpeg:https://cdn.birdlife.se/wp-content/uploads/sites/29/2019/12/kvismaren-mindre.jpg
END:VEVENT
BEGIN:VEVENT
DTSTART;TZID=Europe/Stockholm:20200527T180000
DTEND;TZID=Europe/Stockholm:20200527T210000
DTSTAMP:20260420T211531
CREATED:20191214T195857Z
LAST-MODIFIED:20191216T194835Z
UID:4191-1590602400-1590613200@nof.birdlife.se
SUMMARY:Välkommen med på en kväll i Oset!
DESCRIPTION:Nu är det spännande att gå i Oset. Är fåglarna på plats? \n Kvällexkursionen utgår från Skebäcksparkeringen kl. 18 onsdag den 27 maj \n Mer info: Lars Johansson 070 558 99 06.
URL:https://nof.birdlife.se/evenemang/valkommen-med-pa-en-kvall-i-oset/
LOCATION:Oset\, Skebäcksvägen 54\, Örebro\, 702 15\, Sverige
CATEGORIES:Kvällsexkursion,Osetexkursion
ATTACH;FMTTYPE=image/jpeg:https://nof.birdlife.se/wp-content/uploads/sites/29/2019/03/Oset-4.jpg
END:VEVENT
BEGIN:VEVENT
DTSTART;VALUE=DATE:20200529
DTEND;VALUE=DATE:20200603
DTSTAMP:20260420T211531
CREATED:20200209T103623Z
LAST-MODIFIED:20200523T082959Z
UID:5111-1590710400-1591142399@nof.birdlife.se
SUMMARY:Skådarresan till Hallandskusten och Nidingen är INSTÄLLD!
DESCRIPTION:Resan är inställd! \nFredag 29 maj – tisdag 2 juni en spännande resa med havsfågelskådning \n 
URL:https://nof.birdlife.se/evenemang/valkommen-till-en-harlig-skadarresa-till-norra-hallandskusten-och-nidingen/
CATEGORIES:Fågelresa
ATTACH;FMTTYPE=image/png:https://cdn.birdlife.se/wp-content/uploads/sites/29/2020/02/Nidingen.png
END:VEVENT
BEGIN:VEVENT
DTSTART;TZID=Europe/Stockholm:20200531T070000
DTEND;TZID=Europe/Stockholm:20200531T120000
DTSTAMP:20260420T211531
CREATED:20191214T195838Z
LAST-MODIFIED:20191216T194546Z
UID:4194-1590908400-1590926400@nof.birdlife.se
SUMMARY:Sista vårexkursionen i Oset för i år!
DESCRIPTION:Sista chansen för denna vår att hänga med på guidad tur i Oset. \nExkursionen utgår från Skebäcksparkeringen klockan 07.00 söndag 31 maj. \nTa med fikakorgen för rasten vid Erik Rosenbergsstugan! \nVälkommen! \nMer info: Lars Johansson 070 558 99 06.
URL:https://nof.birdlife.se/evenemang/sista-varexkursionen-i-oset-for-i-ar/
LOCATION:Oset\, Skebäcksvägen 54\, Örebro\, 702 15\, Sverige
CATEGORIES:Osetexkursion
ATTACH;FMTTYPE=image/jpeg:https://nof.birdlife.se/wp-content/uploads/sites/29/2019/03/Oset-1.jpg
END:VEVENT
END:VCALENDAR