BEGIN:VCALENDAR
VERSION:2.0
PRODID:-//Närkes ornitologiska förening - ECPv6.15.17.1//NONSGML v1.0//EN
CALSCALE:GREGORIAN
METHOD:PUBLISH
X-ORIGINAL-URL:https://nof.birdlife.se
X-WR-CALDESC:Händelser för Närkes ornitologiska förening
REFRESH-INTERVAL;VALUE=DURATION:PT1H
X-Robots-Tag:noindex
X-PUBLISHED-TTL:PT1H
BEGIN:VTIMEZONE
TZID:Europe/Stockholm
BEGIN:DAYLIGHT
TZOFFSETFROM:+0100
TZOFFSETTO:+0200
TZNAME:CEST
DTSTART:20190331T010000
END:DAYLIGHT
BEGIN:STANDARD
TZOFFSETFROM:+0200
TZOFFSETTO:+0100
TZNAME:CET
DTSTART:20191027T010000
END:STANDARD
BEGIN:DAYLIGHT
TZOFFSETFROM:+0100
TZOFFSETTO:+0200
TZNAME:CEST
DTSTART:20200329T010000
END:DAYLIGHT
BEGIN:STANDARD
TZOFFSETFROM:+0200
TZOFFSETTO:+0100
TZNAME:CET
DTSTART:20201025T010000
END:STANDARD
BEGIN:DAYLIGHT
TZOFFSETFROM:+0100
TZOFFSETTO:+0200
TZNAME:CEST
DTSTART:20210328T010000
END:DAYLIGHT
BEGIN:STANDARD
TZOFFSETFROM:+0200
TZOFFSETTO:+0100
TZNAME:CET
DTSTART:20211031T010000
END:STANDARD
END:VTIMEZONE
BEGIN:VEVENT
DTSTART;VALUE=DATE:20200529
DTEND;VALUE=DATE:20200603
DTSTAMP:20260420T181823
CREATED:20200209T103623Z
LAST-MODIFIED:20200523T082959Z
UID:5111-1590710400-1591142399@nof.birdlife.se
SUMMARY:Skådarresan till Hallandskusten och Nidingen är INSTÄLLD!
DESCRIPTION:Resan är inställd! \nFredag 29 maj – tisdag 2 juni en spännande resa med havsfågelskådning \n 
URL:https://nof.birdlife.se/evenemang/valkommen-till-en-harlig-skadarresa-till-norra-hallandskusten-och-nidingen/
CATEGORIES:Fågelresa
ATTACH;FMTTYPE=image/png:https://cdn.birdlife.se/wp-content/uploads/sites/29/2020/02/Nidingen.png
END:VEVENT
BEGIN:VEVENT
DTSTART;TZID=Europe/Stockholm:20200612T210000
DTEND;TZID=Europe/Stockholm:20200612T233000
DTSTAMP:20260420T181823
CREATED:20200521T092423Z
LAST-MODIFIED:20200521T092423Z
UID:5611-1591995600-1592004600@nof.birdlife.se
SUMMARY:NYHET - Nattfågellyssning runt trakterna i Örebro
DESCRIPTION:Det är fåglarna som styr nattens mål. Samling vid Haga centrum klockan 21.00 till gryningen (om det vill sig). OBS var och en i sin egna bil!  Guide är Lars Johansson\, 070-558 99 06. \nVälkommen på en mycket spännande natt i månens sken!
URL:https://nof.birdlife.se/evenemang/nyhet-nattfagellyssning-runt-trakterna-i-orebro/
ATTACH;FMTTYPE=image/jpeg:https://cdn.birdlife.se/wp-content/uploads/sites/29/2020/05/Nattlyssning-i-Tysslinge.jpg
END:VEVENT
BEGIN:VEVENT
DTSTART;TZID=Europe/Stockholm:20200613T070000
DTEND;TZID=Europe/Stockholm:20200613T110000
DTSTAMP:20260420T181823
CREATED:20200521T080837Z
LAST-MODIFIED:20200605T143718Z
UID:5599-1592031600-1592046000@nof.birdlife.se
SUMMARY:Ändring av datum till den 13 juni - NYHET - En försommarmorgon vid Välakärret och Vibysjön
DESCRIPTION:Häng med på en fantastiskt försommarmorgon vid Välakärret och Vibysjön. Mycket fågel kan vi förvänta oss och naturen visar sig från sin bästa sida. Ta gärna med kaffetermosen! \nBjörn Ander guidar oss på en tur i en underbar miljö med både kärrmarker och sjöutsikt. \nSamling klockan 07.00 vid Välakärrets parkeringsplats. Mer info: Björn A 070-763 20 07. \nVÄLKOMMEN!
URL:https://nof.birdlife.se/evenemang/nyhet-en-forsommarmorgon-vid-valakarret-och-vibysjon/
LOCATION:Välakärret\, Vibysjön\, 694 95
ATTACH;FMTTYPE=image/jpeg:https://cdn.birdlife.se/wp-content/uploads/sites/29/2020/05/Morups-t%C3%A5nge-Bj%C3%B6rn-Ander-GB.jpg
END:VEVENT
BEGIN:VEVENT
DTSTART;TZID=Europe/Stockholm:20200613T080000
DTEND;TZID=Europe/Stockholm:20200613T170000
DTSTAMP:20260420T181823
CREATED:20191214T200742Z
LAST-MODIFIED:20200507T150511Z
UID:4202-1592035200-1592067600@nof.birdlife.se
SUMMARY:Nyhet! Årets cykeltur till Kvismaren!
DESCRIPTION:Ami&Åsas tjejgrupp \n  \nI  år går cykelturen till Kvismaren för tjejgruppen! \nSamling vid Näsbytornet klockan 08.00! \nEn mycket trevlig tur för alla! \nAnmäl er innan till Åsa 073- 332 20 31 eller Ami 070 – 944 73 00.
URL:https://nof.birdlife.se/evenemang/nyhet-arets-cykeltur-till-kvismaren/
LOCATION:Öby kulle\, Kvismaren
CATEGORIES:Ami&Åsas tjejgrupp
ATTACH;FMTTYPE=image/jpeg:https://nof.birdlife.se/wp-content/uploads/sites/29/2019/01/giro-de-tysslingen.jpg
END:VEVENT
END:VCALENDAR