BEGIN:VCALENDAR
VERSION:2.0
PRODID:-//Närkes ornitologiska förening - ECPv6.15.17.1//NONSGML v1.0//EN
CALSCALE:GREGORIAN
METHOD:PUBLISH
X-ORIGINAL-URL:https://nof.birdlife.se
X-WR-CALDESC:Händelser för Närkes ornitologiska förening
REFRESH-INTERVAL;VALUE=DURATION:PT1H
X-Robots-Tag:noindex
X-PUBLISHED-TTL:PT1H
BEGIN:VTIMEZONE
TZID:Europe/Stockholm
BEGIN:DAYLIGHT
TZOFFSETFROM:+0100
TZOFFSETTO:+0200
TZNAME:CEST
DTSTART:20190331T010000
END:DAYLIGHT
BEGIN:STANDARD
TZOFFSETFROM:+0200
TZOFFSETTO:+0100
TZNAME:CET
DTSTART:20191027T010000
END:STANDARD
BEGIN:DAYLIGHT
TZOFFSETFROM:+0100
TZOFFSETTO:+0200
TZNAME:CEST
DTSTART:20200329T010000
END:DAYLIGHT
BEGIN:STANDARD
TZOFFSETFROM:+0200
TZOFFSETTO:+0100
TZNAME:CET
DTSTART:20201025T010000
END:STANDARD
BEGIN:DAYLIGHT
TZOFFSETFROM:+0100
TZOFFSETTO:+0200
TZNAME:CEST
DTSTART:20210328T010000
END:DAYLIGHT
BEGIN:STANDARD
TZOFFSETFROM:+0200
TZOFFSETTO:+0100
TZNAME:CET
DTSTART:20211031T010000
END:STANDARD
END:VTIMEZONE
BEGIN:VEVENT
DTSTART;TZID=Europe/Stockholm:20200903T180000
DTEND;TZID=Europe/Stockholm:20200903T210000
DTSTAMP:20260420T142136
CREATED:20200626T075409Z
LAST-MODIFIED:20200629T171853Z
UID:5717-1599156000-1599166800@nof.birdlife.se
SUMMARY:Gåstema i Kvismaren med Tjejerna
DESCRIPTION:Kvismaren och Rysjön med gåstema. Erik Sjöstedt är med som gåsexpert. \nSamling vid Öby kulle 18.00 torsdag den 3 september. \nOch så matsäcken! \nInfo Åsa 073- 332 20 31 eller Ami 070 – 944 73 00 \nAmi&Åsas Tjejgrupp
URL:https://nof.birdlife.se/evenemang/gastema-i-kvismaren-med-tjejerna/
LOCATION:Öby kulle\, Kvismaren
CATEGORIES:Ami&Åsas tjejgrupp
ATTACH;FMTTYPE=image/jpeg:https://cdn.birdlife.se/wp-content/uploads/sites/29/2019/12/kvismaren-mindre.jpg
END:VEVENT
BEGIN:VEVENT
DTSTART;TZID=Europe/Stockholm:20200913T080000
DTEND;TZID=Europe/Stockholm:20200913T130000
DTSTAMP:20260420T142136
CREATED:20200626T075749Z
LAST-MODIFIED:20200903T063412Z
UID:5719-1599984000-1600002000@nof.birdlife.se
SUMMARY:Välkommen med på Räva-Hänget
DESCRIPTION:En aktivitet för hela familjen vid Rävgången i Rynningeviken\, söndag 13 september klockan 08.00 – 13.00 med mycket fågelskådning och prat. Och så blir det korvgrillning och mycket annat. \nFågelguider finns på plats och delar gärna med sig av kunskaper. \nKontakt: Ronnie Lindqvist\, 070-262 14 17. \nTänk på Folkhälsomyndigheten rekommendationer! \nHåll avstånd – stå ut – stanna hemma om du känner dig sjuk.  \n 
URL:https://nof.birdlife.se/evenemang/valkommen-med-pa-rava-hanget/
LOCATION:Rävgången\, Rävgången
CATEGORIES:Räva-Hänget
ATTACH;FMTTYPE=image/jpeg:https://nof.birdlife.se/wp-content/uploads/sites/29/2019/09/rävahängwebb.jpeg
GEO:59.284825611993;15.258486770498
X-APPLE-STRUCTURED-LOCATION;VALUE=URI;X-ADDRESS=Rävgången Rävgången;X-APPLE-RADIUS=500;X-TITLE=Rävgången:geo:15.258486770498,59.284825611993
END:VEVENT
BEGIN:VEVENT
DTSTART;TZID=Europe/Stockholm:20200916T160000
DTEND;TZID=Europe/Stockholm:20200918T193000
DTSTAMP:20260420T142136
CREATED:20200417T170511Z
LAST-MODIFIED:20200919T132804Z
UID:5418-1600272000-1600457400@nof.birdlife.se
SUMMARY:Falsterboresan!
DESCRIPTION:OBS! Ändringar i programmet! \n  \nVi reser i en minibuss. Första övernattning är på Getterön\, Varberg\, med havsfågelskådning tidig torsdag morgon. \nSedan skådar vi på lokaler längs nedresan till Falsterbo. Där bor vi 3 nätter på det fräscha vandrarhemmet Lotsvillan. \nMorgontimmarna på Nabben\, rovfågelskruvar över Ljungen\, sedan får fåglarna styra vår dag. \nAvfärd onsdag 16/9 kl 16. Hemkomst söndag kväll. \nMax 7 deltagare. Ansvarig: till Gunnar Bergeå\, gbsteglits@hotmail.com eller sms till 073 314 94 64. \n  \nTänk på Folkhälsomyndigheten rekommendationer! \nHåll avstånd – stå ut – stanna hemma om du känner dig sjuk.
URL:https://nof.birdlife.se/evenemang/hostresa-till-falsterbo/
CATEGORIES:Fågelresa
ATTACH;FMTTYPE=image/jpeg:https://cdn.birdlife.se/wp-content/uploads/sites/29/2020/04/Hela-g%C3%A4nget-vid-Falsterbo-fyr-1.jpg
END:VEVENT
BEGIN:VEVENT
DTSTART;TZID=Europe/Stockholm:20200917T190000
DTEND;TZID=Europe/Stockholm:20200917T210000
DTSTAMP:20260420T142136
CREATED:20200626T080316Z
LAST-MODIFIED:20200823T101406Z
UID:5723-1600369200-1600376400@nof.birdlife.se
SUMMARY:Inomhusmötet är inställt!
DESCRIPTION:Folk och fåglar\, ett relationsdrama? \nAnders Wirdheim håller en föreläsning på temat “Folk och fåglar – relationer mellan människor och fåglar genom historiens gång”. \nVarför har vissa fåglar betraktats som heliga i en del kulturer\, alternativt orena som i Bibelns tredje Mosebok? Hur kom det sig att ett chokladmärke valde en av världens mest motbjudande fåglar som symbol? Och varför tämjde människan djungelhönan? Var det för köttets eller äggens skull – eller handlade det snarare om spel och dobbel? \nDet finns mycket mer att berätta när det gäller vårt förhållande till fåglarna. \nInomhusmötet torsdag 17 september kl 19.00 i Vasakyrkan\, Vasagatan 6\, 703 54 Örebro är inställt.
URL:https://nof.birdlife.se/evenemang/folk-och-faglar-ett-relationsdrama/
LOCATION:Vasakyrkan\, Vasagatan 6-8\, Örebro\, 703 54\, Sverige
CATEGORIES:Föreläsning,Inomhusmöte
END:VEVENT
BEGIN:VEVENT
DTSTART;TZID=Europe/Stockholm:20200924T180000
DTEND;TZID=Europe/Stockholm:20200924T220000
DTSTAMP:20260420T142136
CREATED:20200626T081548Z
LAST-MODIFIED:20200629T173510Z
UID:5730-1600970400-1600984800@nof.birdlife.se
SUMMARY:Spaning på tranor och gäss i Kvismaren
DESCRIPTION:Hög tid för spaning efter tranor och gäss i Kvismaren. Samling vid Öby kulle\, Kvismaren\, klockan 18.00 torsdag den 24 september. Hemfärd sker efter att tranorna intagit sina sovplatser. \nÄr du sugen på en fika – ta med matsäck! \nAnsvarig Lars Johansson 070-558 99 06. \n 
URL:https://nof.birdlife.se/evenemang/spaning-pa-tranor-och-gass-i-kvismaren/
LOCATION:Öby kulle\, Kvismaren
CATEGORIES:Kvällsexkursion
ATTACH;FMTTYPE=image/jpeg:https://nof.birdlife.se/wp-content/uploads/sites/29/2019/06/Transpaning.jpeg
END:VEVENT
BEGIN:VEVENT
DTSTART;TZID=Europe/Stockholm:20200924T183000
DTEND;TZID=Europe/Stockholm:20200924T210000
DTSTAMP:20260420T142136
CREATED:20200626T080953Z
LAST-MODIFIED:20200824T191939Z
UID:5726-1600972200-1600981200@nof.birdlife.se
SUMMARY:Gåstemat fortsätter... med Tjejgruppen         OBS! Anmälan är obligatorisk!
DESCRIPTION:Soppkväll med Ami&Åsas tjejgrupp. Blir det gåsleverpaté och Svartsoppa? \nKent Halttunen kommer och berättar om våra gäss. \n  \nAntal platser är begränsat till 20 personer så anmälan är obligatorisk och ska ske till Åsa 073 – 332 20 31 eller Ami 070 – 944 73 00. Allt för att kunna hålla havsörnsavstånd runt borden\, nu i  coronatider. Soppan serveras till självkostnadspris. Först till kvarn gäller!  \nAmi&Åsas Tjejgrupp
URL:https://nof.birdlife.se/evenemang/gastemat-fortsatter-med-tjejgruppen/
LOCATION:Kollektivhusets matsal\, Visthusgatan 8\, Örebro\, 702 26\, Sverige
CATEGORIES:Ami&Åsas tjejgrupp
ATTACH;FMTTYPE=image/jpeg:https://nof.birdlife.se/wp-content/uploads/sites/29/2019/01/Quizkväll-med-tjejerna.jpeg
END:VEVENT
BEGIN:VEVENT
DTSTART;TZID=Europe/Stockholm:20200927T043000
DTEND;TZID=Europe/Stockholm:20200927T150000
DTSTAMP:20260420T142136
CREATED:20200923T085558Z
LAST-MODIFIED:20200923T085558Z
UID:5985-1601181000-1601218800@nof.birdlife.se
SUMMARY:En spännande dag med sträckfågel från Hammarö
DESCRIPTION:Dagsresa till Hammarö utanför Karlstad vid Vänern\, söndag 27 sept. 06.30 – 13:00. Fågelstationen drivs av Karlstads Ornitologiska Förening. \nPå Hammaröns yttersta spets\, söder om Karlstad\, ligger Skage fyr. Många fåglar sträcker på hösten ut från Värmland över Vänern. \n  \nSöndag 27 september i soluppgången\, tänkte vi vara där. \nHammarö fågelstation har en bra hemsida\, läs mera här!   Bilden ovan är från Hammarö fågelstations hemsida  ”Ur skriften ”Hammarö sydspets- Udde i Vänern” av Björn Ehrenroth och Björn Owe-Larsson”. \n  \nStarttid från Örebro cirka 04.30 (beräknat med 15 min marginal). \nDet tar ca 1 timme och 45 minuter att köra dit från Örebro. Det känns onödigt att samlas i Örebro då vi ändock har svårt att samåka. \nUppsamlingsplats är vid ICA Kvantum\, Hammarö kl 06.30. Därifrån kör vi i kolonn den sista biten. \n  \nNär morgonsträcket är över drar vi oss mot Närke igen vid lunchtid. \n  \nFör att inte aktersegla någon vid Kvantum måste Lars Johansson veta vilka som vill med. Lättast är ett sms till Lars J på 070 558 99 06. \n  \nOm det blir regn eller stark blåst är det meningslöst att besöka denna sträcklokal. \nFör de som anmält deltagande\, meddelas senast lördag 12.00 om exkursionen ställs in pga av regn! 
URL:https://nof.birdlife.se/evenemang/en-spannande-dag-med-strackfagel-fran-hammaro/
LOCATION:Hammarö\, Hammarö\, Sverige
CATEGORIES:Exkursion
ATTACH;FMTTYPE=image/jpeg:https://cdn.birdlife.se/wp-content/uploads/sites/29/2020/09/Hammaro.jpg
END:VEVENT
END:VCALENDAR