BEGIN:VCALENDAR
VERSION:2.0
PRODID:-//Närkes ornitologiska förening - ECPv6.15.17.1//NONSGML v1.0//EN
CALSCALE:GREGORIAN
METHOD:PUBLISH
X-WR-CALNAME:Närkes ornitologiska förening
X-ORIGINAL-URL:https://nof.birdlife.se
X-WR-CALDESC:Händelser för Närkes ornitologiska förening
REFRESH-INTERVAL;VALUE=DURATION:PT1H
X-Robots-Tag:noindex
X-PUBLISHED-TTL:PT1H
BEGIN:VTIMEZONE
TZID:Europe/Stockholm
BEGIN:DAYLIGHT
TZOFFSETFROM:+0100
TZOFFSETTO:+0200
TZNAME:CEST
DTSTART:20190331T010000
END:DAYLIGHT
BEGIN:STANDARD
TZOFFSETFROM:+0200
TZOFFSETTO:+0100
TZNAME:CET
DTSTART:20191027T010000
END:STANDARD
BEGIN:DAYLIGHT
TZOFFSETFROM:+0100
TZOFFSETTO:+0200
TZNAME:CEST
DTSTART:20200329T010000
END:DAYLIGHT
BEGIN:STANDARD
TZOFFSETFROM:+0200
TZOFFSETTO:+0100
TZNAME:CET
DTSTART:20201025T010000
END:STANDARD
BEGIN:DAYLIGHT
TZOFFSETFROM:+0100
TZOFFSETTO:+0200
TZNAME:CEST
DTSTART:20210328T010000
END:DAYLIGHT
BEGIN:STANDARD
TZOFFSETFROM:+0200
TZOFFSETTO:+0100
TZNAME:CET
DTSTART:20211031T010000
END:STANDARD
END:VTIMEZONE
BEGIN:VEVENT
DTSTART;TZID=Europe/Stockholm:20201001T173000
DTEND;TZID=Europe/Stockholm:20201001T210000
DTSTAMP:20260420T113208
CREATED:20200629T133816Z
LAST-MODIFIED:20200929T100713Z
UID:5732-1601573400-1601586000@nof.birdlife.se
SUMMARY:Häng med till Skagershultamossen!
DESCRIPTION:Kvällsexkursion till Skagershultamossen i Västernärke. Häng med till det snygga och höga fågeltornet där man kan spana ut över den stora mossen där naturen påminner om Norrland. Kanske flyger det in ett par tusen tranor i solnedgången. Samling klockan 17.30 torsdag den 1 oktober vid Olstorp och vi håller på tills mörkret sänker sig över mossen. Vägbeskrivning till Skagershultamossen\, Olstorp finns på vår hemsida. Guide är Kent Halttunen\, tel. 070 – 216 11 30.
URL:https://nof.birdlife.se/evenemang/hang-med-till-skagershultamossen/
LOCATION:Skagershultamossen
CATEGORIES:Kvällsexkursion
ATTACH;FMTTYPE=image/jpeg:https://nof.birdlife.se/wp-content/uploads/sites/29/2019/05/Skagershultamossen-2016-09-21-.jpg
END:VEVENT
BEGIN:VEVENT
DTSTART;TZID=Europe/Stockholm:20201003T090000
DTEND;TZID=Europe/Stockholm:20201003T140000
DTSTAMP:20260420T113208
CREATED:20200629T134452Z
LAST-MODIFIED:20200630T072342Z
UID:5735-1601715600-1601733600@nof.birdlife.se
SUMMARY:Vandring till Ässkogstorp från universitetet med Tjejerna
DESCRIPTION:Vi träffas vid universitetsparkeringen mitt emot kunskapsskolan kl 9.00. Därefter går vi förbi Markasjön\, genom Markaskogen tills vi når Ässkogstorp\, cirka 5 km enkel väg. \nTa med matsäck. \nVälkommen med på en spännande vandring genom Markaskogen! \nInformation Åsa 073- 332 20 31 eller Ami 070 – 944 73 00 \n Ami&Åsas Tjejgrupp.
URL:https://nof.birdlife.se/evenemang/vandring-till-asskogstorp-fran-universitetet-med-tjejerna/
LOCATION:Ässkogstorp\, Ässkog 307\, Örebro\, 702 21\, Sverige
CATEGORIES:Ami&Åsas tjejgrupp
END:VEVENT
BEGIN:VEVENT
DTSTART;TZID=Europe/Stockholm:20201004T070000
DTEND;TZID=Europe/Stockholm:20201004T120000
DTSTAMP:20260420T113208
CREATED:20200629T134957Z
LAST-MODIFIED:20200629T134957Z
UID:5737-1601794800-1601812800@nof.birdlife.se
SUMMARY:EuroBirdWatch
DESCRIPTION:EuroBirdWatch – Vi räknar fåglar på Venan tillsammans med hela Europa. Samling vid Venastugan kl 07.00-12.00! \nVälkommen!
URL:https://nof.birdlife.se/evenemang/eurobirdwatch/
LOCATION:Venastugan\, Rynningeviken\, Venan 410\, Örebro\, 703 81\, Sweden
CATEGORIES:EuroBirdWatch
ATTACH;FMTTYPE=image/jpeg:https://nof.birdlife.se/wp-content/uploads/sites/29/2018/10/EuroBnyahemsidan2.jpg
GEO:59.2946226;15.2617315
X-APPLE-STRUCTURED-LOCATION;VALUE=URI;X-ADDRESS=Venastugan Rynningeviken Venan 410 Örebro 703 81 Sweden;X-APPLE-RADIUS=500;X-TITLE=Venan 410:geo:15.2617315,59.2946226
END:VEVENT
BEGIN:VEVENT
DTSTART;TZID=Europe/Stockholm:20201008T070000
DTEND;TZID=Europe/Stockholm:20201008T200000
DTSTAMP:20260420T113208
CREATED:20200417T170630Z
LAST-MODIFIED:20201008T184725Z
UID:5421-1602140400-1602187200@nof.birdlife.se
SUMMARY:Välkommen med till Södra Öland i höst
DESCRIPTION:Vi reser i 2 minibussar till södra Öland. Avresa torsdag 8/10 kl. 7.00. \nVi skådar på lokaler längs nedresan till södra Öland. Där bor vi med vandrarhemsstandard i privata hus 8 km från Ottenby. \nDagarna startar vi tidigt på Udden\, sedan får fåglarna styra oss. \nÅter i Örebro söndag 11/10 runt kl 20.00. Pris: 2 900: – inkl. färdmedel\, boende\, guide\, avsättning till resegaranti och fågelskyddsfond. \n Anmälan: till Gunnar Bergeå\, gbsteglits@hotmail.com eller sms: a till 073 314 94 64. \n  \nOBS! Beroende på covid-19 och folkhälsomyndighetens rekommendationer så är din anmälan inte bindande förrän 17/9 – 3 veckor före avresan. Fram till dess kan du avboka pga. oro för Corona och få pengarna åter. NOF kommer också att göra en bedömning av lämpligheten i att resan.
URL:https://nof.birdlife.se/evenemang/sodra-oland-till-hosten/
CATEGORIES:Fågelresa
ATTACH;FMTTYPE=image/jpeg:https://nof.birdlife.se/wp-content/uploads/sites/29/2019/06/Öland-mj-2.jpg
END:VEVENT
BEGIN:VEVENT
DTSTART;TZID=Europe/Stockholm:20201015T190000
DTEND;TZID=Europe/Stockholm:20201015T210000
DTSTAMP:20260420T113208
CREATED:20200629T140009Z
LAST-MODIFIED:20200924T075635Z
UID:5739-1602788400-1602795600@nof.birdlife.se
SUMMARY:Projekt Pilgrimsfalk
DESCRIPTION:Inställt pga rådande pandemin! \nNaturfotograf Jonas Forsberg berättar om Projekt Pilgrimsfalk som han varit delaktig i. \n  \nEfter pausen visar fotografen Krister Håkansson ett urval av sina fågel- och naturbilder från fjällvärlden. \n  \nVälkommen på inomhusmöte klockan 19 i Vasakyrkan\, Vasagatan 6–8\, Örebro.
URL:https://nof.birdlife.se/evenemang/projekt-pilgrimsfalk-2/
LOCATION:Vasakyrkan\, Vasagatan 6-8\, Örebro\, 703 54\, Sverige
CATEGORIES:Föreläsning,Inomhusmöte
END:VEVENT
BEGIN:VEVENT
DTSTART;TZID=Europe/Stockholm:20201018T090000
DTEND;TZID=Europe/Stockholm:20201018T130000
DTSTAMP:20260420T113208
CREATED:20200629T142438Z
LAST-MODIFIED:20201003T171211Z
UID:5748-1603011600-1603026000@nof.birdlife.se
SUMMARY:Välkommen med till Yxnäset
DESCRIPTION:Efter nya rekommendationer från Folkhälsomyndigheten kör vi som planerat! \nI samverkan med Östernärkes Naturvårdsförening genomförs den traditionella höstvandringen till Hjämarens strand vid Yxnäset.  Samling vid P-platsen Bondevrak klockan 09.00. \nVanligtvis är det blött så ta bra på fötterna. \nOch korvgrillning. \nLedare Gunnar Nilsson tel 070 961 14 45 och Krister Sölveling 019 452 204.
URL:https://nof.birdlife.se/evenemang/valkommen-med-till-yxnaset/
LOCATION:Yxnäset\, Bondvrak\, Sverige
CATEGORIES:Exkursion
ATTACH;FMTTYPE=image/jpeg:https://nof.birdlife.se/wp-content/uploads/sites/29/2019/02/Yxnäset1.jpg
END:VEVENT
BEGIN:VEVENT
DTSTART;TZID=Europe/Stockholm:20201030T070000
DTEND;TZID=Europe/Stockholm:20201101T193000
DTSTAMP:20260420T113208
CREATED:20200629T143733Z
LAST-MODIFIED:20200929T091937Z
UID:5751-1604041200-1604259000@nof.birdlife.se
SUMMARY:Fågelsträck efter kusten - Hönö - Kråkudden m fl fågellokaler
DESCRIPTION:Resa till västkustens pärla och när vindarna är de rätta bjuder denna lokal på fantastisk sträckskådning. Häng med på denna helgresa under ledning av Hans Waern som upplåter sitt hus på Fotö för ett bekvämt boende nära de bästa fågellokalerna. Fredag 30 oktober –  söndag 1 november.  \nAnmäl intresse till Hans Waern\, sms 070-492 53 51.
URL:https://nof.birdlife.se/evenemang/fagelstrack-efter-kusten-hono/
LOCATION:Hönö\, 475 42\, Sverige
CATEGORIES:Fågelresa
ATTACH;FMTTYPE=image/jpeg:https://cdn.birdlife.se/wp-content/uploads/sites/29/2020/09/HW-1.jpg
END:VEVENT
END:VCALENDAR