BEGIN:VCALENDAR
VERSION:2.0
PRODID:-//Närkes ornitologiska förening - ECPv6.15.17.1//NONSGML v1.0//EN
CALSCALE:GREGORIAN
METHOD:PUBLISH
X-WR-CALNAME:Närkes ornitologiska förening
X-ORIGINAL-URL:https://nof.birdlife.se
X-WR-CALDESC:Händelser för Närkes ornitologiska förening
REFRESH-INTERVAL;VALUE=DURATION:PT1H
X-Robots-Tag:noindex
X-PUBLISHED-TTL:PT1H
BEGIN:VTIMEZONE
TZID:Europe/Stockholm
BEGIN:DAYLIGHT
TZOFFSETFROM:+0100
TZOFFSETTO:+0200
TZNAME:CEST
DTSTART:20190331T010000
END:DAYLIGHT
BEGIN:STANDARD
TZOFFSETFROM:+0200
TZOFFSETTO:+0100
TZNAME:CET
DTSTART:20191027T010000
END:STANDARD
BEGIN:DAYLIGHT
TZOFFSETFROM:+0100
TZOFFSETTO:+0200
TZNAME:CEST
DTSTART:20200329T010000
END:DAYLIGHT
BEGIN:STANDARD
TZOFFSETFROM:+0200
TZOFFSETTO:+0100
TZNAME:CET
DTSTART:20201025T010000
END:STANDARD
BEGIN:DAYLIGHT
TZOFFSETFROM:+0100
TZOFFSETTO:+0200
TZNAME:CEST
DTSTART:20210328T010000
END:DAYLIGHT
BEGIN:STANDARD
TZOFFSETFROM:+0200
TZOFFSETTO:+0100
TZNAME:CET
DTSTART:20211031T010000
END:STANDARD
END:VTIMEZONE
BEGIN:VEVENT
DTSTART;TZID=Europe/Stockholm:20201030T070000
DTEND;TZID=Europe/Stockholm:20201101T193000
DTSTAMP:20260420T101421
CREATED:20200629T143733Z
LAST-MODIFIED:20200929T091937Z
UID:5751-1604041200-1604259000@nof.birdlife.se
SUMMARY:Fågelsträck efter kusten - Hönö - Kråkudden m fl fågellokaler
DESCRIPTION:Resa till västkustens pärla och när vindarna är de rätta bjuder denna lokal på fantastisk sträckskådning. Häng med på denna helgresa under ledning av Hans Waern som upplåter sitt hus på Fotö för ett bekvämt boende nära de bästa fågellokalerna. Fredag 30 oktober –  söndag 1 november.  \nAnmäl intresse till Hans Waern\, sms 070-492 53 51.
URL:https://nof.birdlife.se/evenemang/fagelstrack-efter-kusten-hono/
LOCATION:Hönö\, 475 42\, Sverige
CATEGORIES:Fågelresa
ATTACH;FMTTYPE=image/jpeg:https://cdn.birdlife.se/wp-content/uploads/sites/29/2020/09/HW-1.jpg
END:VEVENT
BEGIN:VEVENT
DTSTART;TZID=Europe/Stockholm:20201119T190000
DTEND;TZID=Europe/Stockholm:20201119T210000
DTSTAMP:20260420T101421
CREATED:20200629T144159Z
LAST-MODIFIED:20200924T075403Z
UID:5753-1605812400-1605819600@nof.birdlife.se
SUMMARY:Möten med Sveriges ugglor - Eldögon
DESCRIPTION:Inställt pga rådande pandemin! \nNaturfotograf och filmare Patrik Olofssons tar oss med på en resa genom ugglornas Sverige – från vidsträckta storskogar och högfjällets vidder till sjudande våtmarker och ladugårdars mörka vrår. \nVälkommen på inomhusmöte kl. 19 i Vasakyrkan\, Vasagatan 6–8\, Örebro.
URL:https://nof.birdlife.se/evenemang/moten-med-sveriges-ugglor-eldogon/
LOCATION:Vasakyrkan\, Vasagatan 6-8\, Örebro\, 703 54\, Sverige
CATEGORIES:Föreläsning,Inomhusmöte
END:VEVENT
END:VCALENDAR