BEGIN:VCALENDAR
VERSION:2.0
PRODID:-//Närkes ornitologiska förening - ECPv6.15.17.1//NONSGML v1.0//EN
CALSCALE:GREGORIAN
METHOD:PUBLISH
X-WR-CALNAME:Närkes ornitologiska förening
X-ORIGINAL-URL:https://nof.birdlife.se
X-WR-CALDESC:Händelser för Närkes ornitologiska förening
REFRESH-INTERVAL;VALUE=DURATION:PT1H
X-Robots-Tag:noindex
X-PUBLISHED-TTL:PT1H
BEGIN:VTIMEZONE
TZID:Europe/Stockholm
BEGIN:DAYLIGHT
TZOFFSETFROM:+0100
TZOFFSETTO:+0200
TZNAME:CEST
DTSTART:20200329T010000
END:DAYLIGHT
BEGIN:STANDARD
TZOFFSETFROM:+0200
TZOFFSETTO:+0100
TZNAME:CET
DTSTART:20201025T010000
END:STANDARD
BEGIN:DAYLIGHT
TZOFFSETFROM:+0100
TZOFFSETTO:+0200
TZNAME:CEST
DTSTART:20210328T010000
END:DAYLIGHT
BEGIN:STANDARD
TZOFFSETFROM:+0200
TZOFFSETTO:+0100
TZNAME:CET
DTSTART:20211031T010000
END:STANDARD
BEGIN:DAYLIGHT
TZOFFSETFROM:+0100
TZOFFSETTO:+0200
TZNAME:CEST
DTSTART:20220327T010000
END:DAYLIGHT
BEGIN:STANDARD
TZOFFSETFROM:+0200
TZOFFSETTO:+0100
TZNAME:CET
DTSTART:20221030T010000
END:STANDARD
END:VTIMEZONE
BEGIN:VEVENT
DTSTART;TZID=Europe/Stockholm:20210102T000000
DTEND;TZID=Europe/Stockholm:20210102T160000
DTSTAMP:20260420T073047
CREATED:20200824T144906Z
LAST-MODIFIED:20201208T122225Z
UID:5876-1609545600-1609603200@nof.birdlife.se
SUMMARY:Artracet i Närke
DESCRIPTION:OBS – Uppdaterat!\n  \nDags att börja planera för 2021 års första aktivitet\, Artracet. \nHäng med på denna lättsamma kryssartävling som är en bra start på nya skådaråret. \nBilda ett lag och kryssa så många arter som möjligt i landskapet under en dag. Obs! enmanslag fungerar också. \nStäll upp i den vanliga klassen eller i ekoklassen\, där du bara utnyttjar miljövänliga färdmedel. \nStart kl. 00 och målgång kl. 16 på valfri plats. Se nedan\, nya corona-anpassningarna! \n  \nCorona-anpassningar: \n\nVi återsamlas INTE på Gröna grodan. Varje lag avslutar tävlingen på valfri plats kl 16:00. (ersätter regel 4)\n\n\nEnsamlag är tillåtet. I normala fall måste ett lag bestå av minst två personer. (ersätter regel 5)\n\n\nVarje lag skickar sin artlista i digitalt format till tävlingsledningen (Håkan Persson) senast. 16:15\n\n  \nUtöver dessa anpassningar så är det följande regler som gäller. Notera att aspirant-regeln har utgått och ersatts. \n  \nTÄVLINGSREGLER \n1) Tävlingen går ut på att observera så många fågelarter som möjligt \n2) Det är Club300:as kryssregel nr 3 (Landskapslistan) som gäller \n3) Tävlingen börjar kl 00.00 på valfri plats och angivet datum. \n4) Tävlingen avslutas kl 16.00 på angiven plats \n5) Tävlingen sker lagvis och ett lag består av minst två medlemmar \n6) Alla i laget samt den observerade fågeln måste befinna sig innanför Närkes gränser\, för att en art ska få räknas \n8) Alla lagmedlemmar måste observera alla arter – om laget består av två medlemmar \n9) Består laget av tre eller fler så behöver alla utom en observera arten för att den ska få räknas (dvs 2 av 3 eller 3 av 4 osv.) \n10) Ljudupptagningar i mobiltelefoner eller annan elektrisk utrustning får ej användas (däremot går t ex järppipor och ”manuella” visslingar bra) \n11) Vid försenad ankomst till målgång dras en art av för varje påbörjad femminutersperiod \n12) Bilklassen: Vid lika antal sorteras de med minst antal körda kilometer först \n13) Ekoklassen: Endast kollektivtrafik eller muskeldrivna cyklar är tillåtna färdmedel. \n  \nEn annan nyhet denna gång är att vi testar artportalens checklista där de nyligen släppts en artrally-funktion. Detta är frivilligt för deltagande lag. De som är nyfikna använder taggen: NarkeRacet2021 \nMer om det finns att läsa här: https://www.artdatabanken.se/…/dra-igang-ett-artrally…/ \n  \nHåkan tittar också på en lösning för ett digitalt möte där vi går igenom artlistan och korar vinnarna. Skulle det vara intressant? \n  \nAnmäl ditt lag  till Håkan Persson med ett sms till 072 403 45 85. Obs! nytt mobilnr till Håkan. Håll utkik på vår hemsida och på NOF:s Facebooksida för mer info och om det blir någon ändring pga. Coronapandemin.
URL:https://nof.birdlife.se/evenemang/artracet-i-narke/
LOCATION:Örebro med omnejd
CATEGORIES:Artrace
ATTACH;FMTTYPE=image/jpeg:https://cdn.birdlife.se/wp-content/uploads/sites/29/2020/01/artrace2.jpg
END:VEVENT
BEGIN:VEVENT
DTSTART;VALUE=DATE:20210129
DTEND;VALUE=DATE:20210202
DTSTAMP:20260420T073047
CREATED:20201118T133947Z
LAST-MODIFIED:20210128T163235Z
UID:6100-1611878400-1612223999@nof.birdlife.se
SUMMARY:Vinterfåglar inpå knuten
DESCRIPTION:OBS! Uppdaterat!\nVälkommen att delta i Vinterfåglar inpå Knuten fredag 29 januari-måndag 1 februari. \nDu kan välja att räkna dina matgäster när som helst under perioden 29 januari till den 1 februari\, och du rapporterar det högsta antalet du ser samtidigt av samma art. \nRäkna fåglarna vid ditt fågelbord hemmavid eller kom med på någon av NOFs utflykter till något fågelbord i vår närhet. \n  \nBirdLife Sverige – Vinterfåglar inpå knuten – här får du all hjälp för att rapportera: www.vinterfaglar.se \n  \nLördag 30 januari kommer NOF att delta vid Långkatekesen i Karlslund mellan klockan 10-12. Ronnie Lindqvist och Anastasia Valenta kommer att räkna\, guida och berätta om fåglarna som finns på matningen där. \n  \nSöndag 31 januari mellan klockan 10-12 finns Gunnar Bergeå vid Erik Rosenbergsstugan i Oset för att räkna och guida vid fågelbordet där. \nVälkomna ut i naturen! \n 
URL:https://nof.birdlife.se/evenemang/vinterfaglar-inpa-knuten/
LOCATION:Närke
CATEGORIES:Vinterfåglar inpå Knuten
ATTACH;FMTTYPE=image/jpeg:https://cdn.birdlife.se/wp-content/uploads/sites/29/2019/11/Vinterf%C3%A5glar-inp%C3%A5-knuten.jpg
END:VEVENT
END:VCALENDAR