BEGIN:VCALENDAR
VERSION:2.0
PRODID:-//Närkes ornitologiska förening - ECPv6.15.17.1//NONSGML v1.0//EN
CALSCALE:GREGORIAN
METHOD:PUBLISH
X-ORIGINAL-URL:https://nof.birdlife.se
X-WR-CALDESC:Händelser för Närkes ornitologiska förening
REFRESH-INTERVAL;VALUE=DURATION:PT1H
X-Robots-Tag:noindex
X-PUBLISHED-TTL:PT1H
BEGIN:VTIMEZONE
TZID:Europe/Stockholm
BEGIN:DAYLIGHT
TZOFFSETFROM:+0100
TZOFFSETTO:+0200
TZNAME:CEST
DTSTART:20200329T010000
END:DAYLIGHT
BEGIN:STANDARD
TZOFFSETFROM:+0200
TZOFFSETTO:+0100
TZNAME:CET
DTSTART:20201025T010000
END:STANDARD
BEGIN:DAYLIGHT
TZOFFSETFROM:+0100
TZOFFSETTO:+0200
TZNAME:CEST
DTSTART:20210328T010000
END:DAYLIGHT
BEGIN:STANDARD
TZOFFSETFROM:+0200
TZOFFSETTO:+0100
TZNAME:CET
DTSTART:20211031T010000
END:STANDARD
BEGIN:DAYLIGHT
TZOFFSETFROM:+0100
TZOFFSETTO:+0200
TZNAME:CEST
DTSTART:20220327T010000
END:DAYLIGHT
BEGIN:STANDARD
TZOFFSETFROM:+0200
TZOFFSETTO:+0100
TZNAME:CET
DTSTART:20221030T010000
END:STANDARD
END:VTIMEZONE
BEGIN:VEVENT
DTSTART;VALUE=DATE:20210129
DTEND;VALUE=DATE:20210202
DTSTAMP:20260420T060402
CREATED:20201118T133947Z
LAST-MODIFIED:20210128T163235Z
UID:6100-1611878400-1612223999@nof.birdlife.se
SUMMARY:Vinterfåglar inpå knuten
DESCRIPTION:OBS! Uppdaterat!\nVälkommen att delta i Vinterfåglar inpå Knuten fredag 29 januari-måndag 1 februari. \nDu kan välja att räkna dina matgäster när som helst under perioden 29 januari till den 1 februari\, och du rapporterar det högsta antalet du ser samtidigt av samma art. \nRäkna fåglarna vid ditt fågelbord hemmavid eller kom med på någon av NOFs utflykter till något fågelbord i vår närhet. \n  \nBirdLife Sverige – Vinterfåglar inpå knuten – här får du all hjälp för att rapportera: www.vinterfaglar.se \n  \nLördag 30 januari kommer NOF att delta vid Långkatekesen i Karlslund mellan klockan 10-12. Ronnie Lindqvist och Anastasia Valenta kommer att räkna\, guida och berätta om fåglarna som finns på matningen där. \n  \nSöndag 31 januari mellan klockan 10-12 finns Gunnar Bergeå vid Erik Rosenbergsstugan i Oset för att räkna och guida vid fågelbordet där. \nVälkomna ut i naturen! \n 
URL:https://nof.birdlife.se/evenemang/vinterfaglar-inpa-knuten/
LOCATION:Närke
CATEGORIES:Vinterfåglar inpå Knuten
ATTACH;FMTTYPE=image/jpeg:https://cdn.birdlife.se/wp-content/uploads/sites/29/2019/11/Vinterf%C3%A5glar-inp%C3%A5-knuten.jpg
END:VEVENT
BEGIN:VEVENT
DTSTART;TZID=Europe/Stockholm:20210204T190000
DTEND;TZID=Europe/Stockholm:20210204T203000
DTSTAMP:20260420T060402
CREATED:20201217T165535Z
LAST-MODIFIED:20210201T134612Z
UID:6217-1612465200-1612470600@nof.birdlife.se
SUMMARY:Månadsmöte i januari - Bildvisning av Torbjörn Arvidson
DESCRIPTION:Uppdaterad med nyheter! \n  \nTorbjörn Arvidson kommer att visa bilder från fågelåret 2020 via nätet. \nObservera datumet torsdag 4 februari och mötet börjar klockan 19. OBS du kan ansluta dig redan klockan 18.00 för att prova kontakten. \nVåra månadsmöten sker alltid 3:e torsdagen i varje planerad månad men denna gång är det undantaget som bekräftar den regeln. \nHär finns ny och mera information!!! \nEn länk hur du gör när du deltar vid NOFs digitala Zoom-möte finns här  \nVälkommen att delta på NOFs första digitala månadsmöte!
URL:https://nof.birdlife.se/evenemang/manadsmote-i-januari/
CATEGORIES:Inomhusmöte
ATTACH;FMTTYPE=image/jpeg:https://cdn.birdlife.se/wp-content/uploads/sites/29/2019/11/3-Torbj%C3%B6rn-mindre-bild.jpg
END:VEVENT
BEGIN:VEVENT
DTSTART;TZID=Europe/Stockholm:20210218T190000
DTEND;TZID=Europe/Stockholm:20210218T210000
DTSTAMP:20260420T060402
CREATED:20201209T211504Z
LAST-MODIFIED:20210208T153506Z
UID:6165-1613674800-1613682000@nof.birdlife.se
SUMMARY:Närkes Ornitologiska Förenings Årsmöte 2021
DESCRIPTION:Det blir en ny och spännande årsmötesform detta år. \nNOF kallar till ett digitalt årsmöte den 18 februari 2021 där alla är välkomna att delta. \nSe kallelsen via länk här! \nFörhandsanmälan krävs! \nMer information hur du ska koppla upp dig finns här på vår hemsida. Se länk!  \n  \n 
URL:https://nof.birdlife.se/evenemang/narkes-ornitologiska-forenings-arsmote-2021/
CATEGORIES:Årsmöte
END:VEVENT
BEGIN:VEVENT
DTSTART;TZID=Europe/Stockholm:20210221T093000
DTEND;TZID=Europe/Stockholm:20210221T130000
DTSTAMP:20260420T060402
CREATED:20201118T132545Z
LAST-MODIFIED:20201118T132545Z
UID:6098-1613899800-1613912400@nof.birdlife.se
SUMMARY:Garphyttans Nationalpark i vinterskrud
DESCRIPTION:Årets första stora exkursion till ett vinterklätt landskap i Kilsbergen. Klä dig varmt\, ta med något att grilla och följ med ut i den vackra naturen. Tillsammans med Östernärkes Naturvårdsförening. Samling P-platsen\, Garphyttans nationalpark klockan 09.30 söndag den 21 februari 2021. För mer info: Lars Johansson\, 070-558 99 06.
URL:https://nof.birdlife.se/evenemang/garphyttans-nationalpark-i-vinterskrud/
LOCATION:Garphyttans nationalpark\, Garphyttans nationalpark\, Vintrosa\, Örebro\, 71993\, Sverige
CATEGORIES:Exkursion
ATTACH;FMTTYPE=image/jpeg:https://cdn.birdlife.se/wp-content/uploads/sites/29/2019/11/Garphyttan-2018-mindre-storlek.jpg
END:VEVENT
END:VCALENDAR