BEGIN:VCALENDAR
VERSION:2.0
PRODID:-//Närkes ornitologiska förening - ECPv6.15.17.1//NONSGML v1.0//EN
CALSCALE:GREGORIAN
METHOD:PUBLISH
X-WR-CALNAME:Närkes ornitologiska förening
X-ORIGINAL-URL:https://nof.birdlife.se
X-WR-CALDESC:Händelser för Närkes ornitologiska förening
REFRESH-INTERVAL;VALUE=DURATION:PT1H
X-Robots-Tag:noindex
X-PUBLISHED-TTL:PT1H
BEGIN:VTIMEZONE
TZID:Europe/Stockholm
BEGIN:DAYLIGHT
TZOFFSETFROM:+0100
TZOFFSETTO:+0200
TZNAME:CEST
DTSTART:20200329T010000
END:DAYLIGHT
BEGIN:STANDARD
TZOFFSETFROM:+0200
TZOFFSETTO:+0100
TZNAME:CET
DTSTART:20201025T010000
END:STANDARD
BEGIN:DAYLIGHT
TZOFFSETFROM:+0100
TZOFFSETTO:+0200
TZNAME:CEST
DTSTART:20210328T010000
END:DAYLIGHT
BEGIN:STANDARD
TZOFFSETFROM:+0200
TZOFFSETTO:+0100
TZNAME:CET
DTSTART:20211031T010000
END:STANDARD
BEGIN:DAYLIGHT
TZOFFSETFROM:+0100
TZOFFSETTO:+0200
TZNAME:CEST
DTSTART:20220327T010000
END:DAYLIGHT
BEGIN:STANDARD
TZOFFSETFROM:+0200
TZOFFSETTO:+0100
TZNAME:CET
DTSTART:20221030T010000
END:STANDARD
END:VTIMEZONE
BEGIN:VEVENT
DTSTART;TZID=Europe/Stockholm:20210402T090000
DTEND;TZID=Europe/Stockholm:20210402T130000
DTSTAMP:20260420T041531
CREATED:20210206T104428Z
LAST-MODIFIED:20210324T095935Z
UID:6571-1617354000-1617368400@nof.birdlife.se
SUMMARY:INSTÄLLT - Långfredagsguidning vid Rånnesta\, Tysslingen
DESCRIPTION:På grund av det rådandet läget i covid-19-pandemin blir det inga guidningar vid svansjön Tysslingen under påskhelgen! \nHåll ut – Håll i – Håll havsörnsavstånd!
URL:https://nof.birdlife.se/evenemang/langfredagsguidning-vid-rannesta-tysslingen/
LOCATION:Rånnesta\, Tysslingen\, Svansjön Tysslingen\, 70592\, Sverige
CATEGORIES:Guidning
ATTACH;FMTTYPE=image/jpeg:https://cdn.birdlife.se/wp-content/uploads/sites/29/2019/11/5-R%C3%A5nnesta-Tysslingen-mindre-bild.jpg
END:VEVENT
BEGIN:VEVENT
DTSTART;TZID=Europe/Stockholm:20210403T090000
DTEND;TZID=Europe/Stockholm:20210403T130000
DTSTAMP:20260420T041531
CREATED:20201217T180117Z
LAST-MODIFIED:20210324T100135Z
UID:6232-1617440400-1617454800@nof.birdlife.se
SUMMARY:INSTÄLLT - Påskaftonsguidning vid Rånnesta\, Tysslingen.
DESCRIPTION:På grund av det rådandet läget i covid-19-pandemin blir det inga guidningar vid svansjön Tysslingen under påskhelgen! \nVar rädda om Er – Håll avstånd!
URL:https://nof.birdlife.se/evenemang/paskaftonsguidning-vid-rannesta-tysslingen/
LOCATION:Rånnesta\, Tysslingen\, Svansjön Tysslingen\, 70592\, Sverige
ATTACH;FMTTYPE=image/jpeg:https://cdn.birdlife.se/wp-content/uploads/sites/29/2019/11/f%C3%A5glar-014-mindre-bild.jpg
END:VEVENT
BEGIN:VEVENT
DTSTART;TZID=Europe/Stockholm:20210404T090000
DTEND;TZID=Europe/Stockholm:20210404T130000
DTSTAMP:20260420T041531
CREATED:20201217T180409Z
LAST-MODIFIED:20210324T100237Z
UID:6234-1617526800-1617541200@nof.birdlife.se
SUMMARY:INSTÄLLT - Sista helgen med guidning vid Rånnesta!
DESCRIPTION:På grund av det rådandet läget i covid-19-pandemin blir det inga guidningar vid svansjön Tysslingen under påskhelgen! \nVar rädda om Er – Håll avstånd! \n 
URL:https://nof.birdlife.se/evenemang/sista-chansen-for-guidning-vid-rannesta/
LOCATION:Rånnesta\, Tysslingen\, Svansjön Tysslingen\, 70592\, Sverige
CATEGORIES:Guidning
ATTACH;FMTTYPE=image/jpeg:https://cdn.birdlife.se/wp-content/uploads/sites/29/2019/11/6-R%C3%A5nnesta-mindre-bild.jpg
END:VEVENT
BEGIN:VEVENT
DTSTART;TZID=Europe/Stockholm:20210405T090000
DTEND;TZID=Europe/Stockholm:20210405T130000
DTSTAMP:20260420T041531
CREATED:20210206T105049Z
LAST-MODIFIED:20210324T100411Z
UID:6573-1617613200-1617627600@nof.birdlife.se
SUMMARY:INSTÄLLT - Sista helgen med svanarna vid Svansjön\, Tysslingen
DESCRIPTION:På grund av det rådandet läget i covid-19-pandemin blir det inga guidningar vid svansjön Tysslingen under påskhelgen! \nVar rädda om Er – Håll avstånd! \n 
URL:https://nof.birdlife.se/evenemang/__trashed/
LOCATION:Rånnesta\, Tysslingen\, Svansjön Tysslingen\, 70592\, Sverige
CATEGORIES:Guidning
ATTACH;FMTTYPE=image/jpeg:https://nof.birdlife.se/wp-content/uploads/sites/29/2019/03/Annikas-tjejgrupp-vid-Rånnesta-mj.jpg
END:VEVENT
BEGIN:VEVENT
DTSTART;TZID=Europe/Stockholm:20210410T090000
DTEND;TZID=Europe/Stockholm:20210410T140000
DTSTAMP:20260420T041531
CREATED:20210209T135130Z
LAST-MODIFIED:20210213T144648Z
UID:6641-1618045200-1618063200@nof.birdlife.se
SUMMARY:Välkommen att anmäla dig till en studiecirkel i NOFs regi
DESCRIPTION:Aldrig försent att utbilda sig! \nVälkommen att anmäla dig till en Endagskurs i sommar- och vinterpunktrutter\, standardrutter och nattfågelinventering. \nTeori och praktisk tillämpning. NOF i samarbete med Studiefrämjandet och Svensk Fågeltaxering. Tid: kl 9.00-14.00 \nLedare Ronnie Lindqvist\, tel 070-262 14 17\, mail  lindqvist_ronnie@hotmail.com \nLänk till Studiefrämjandes hemsida där du kan anmäla dig!
URL:https://nof.birdlife.se/evenemang/valkommen-att-anmala-dig-till-en-studiecirkel-i-nofs-regi/
LOCATION:Närke
CATEGORIES:Studiecirkel
ATTACH;FMTTYPE=image/jpeg:https://nof.birdlife.se/wp-content/uploads/sites/29/2019/02/studiecirkel_1.jpg
END:VEVENT
BEGIN:VEVENT
DTSTART;TZID=Europe/Stockholm:20210415T190000
DTEND;TZID=Europe/Stockholm:20210415T200000
DTSTAMP:20260420T041531
CREATED:20201217T180740Z
LAST-MODIFIED:20210411T084440Z
UID:6236-1618513200-1618516800@nof.birdlife.se
SUMMARY:Digitalt månadsmöte med Krister Håkansson
DESCRIPTION:Naturfotograf Krister Håkansson visar ett urval av sina fågel- och naturbilder. \n Det blir bilder från vår fjällvärld\, bilder från våra skogar i Närke och livet däruti. \n Krister kommer att ta oss med överraskning.  \nNu börjar vi få rutin på det här med Zoom-möte\, så nu kör vi! Mer information hur du ska koppla upp dig finns här på vår hemsida. Se länk!  \nAnmälan görs via mail till nof.video2@outlook.com och du får sedan en bekräftelse på din anmälan med en länk till Zoom videomöte.
URL:https://nof.birdlife.se/evenemang/manadsmote-i-april/
CATEGORIES:Digitalt månadsmöte
ATTACH;FMTTYPE=image/jpeg:https://cdn.birdlife.se/wp-content/uploads/sites/29/2021/02/Krister-Hakansson-1-mindre-bild-2.jpg
END:VEVENT
BEGIN:VEVENT
DTSTART;TZID=Europe/Stockholm:20210417T090000
DTEND;TZID=Europe/Stockholm:20210417T140000
DTSTAMP:20260420T041531
CREATED:20210209T135501Z
LAST-MODIFIED:20210213T144544Z
UID:6645-1618650000-1618668000@nof.birdlife.se
SUMMARY:Anmäl dig till en utbildningsdag i NOF regi
DESCRIPTION:Välkommen att anmäla dig! \nEndagskurs i sommar- och vinterpunktrutter\, standardrutter och nattfågelinventering. \nTeori och praktisk tillämpning. NOF i samarbete med Studiefrämjandet och Svensk Fågeltaxering. Tid: kl 9.00-14.00 \nLedare Ronnie Lindqvist\, tel 070-262 14 17.  Mail lindqvist_ronnie@hotmail.com \nLänk till Studieförbundets hemsida där du kan anmäla dig!
URL:https://nof.birdlife.se/evenemang/anmal-dig-till-en-utbildningsdag-i-nof-regi/
LOCATION:Närke
CATEGORIES:Studiecirkel
ATTACH;FMTTYPE=image/jpeg:https://cdn.birdlife.se/wp-content/uploads/sites/29/2021/02/ronnie-lindqvist-eko.jpg
END:VEVENT
BEGIN:VEVENT
DTSTART;TZID=Europe/Stockholm:20210422T190000
DTEND;TZID=Europe/Stockholm:20210422T223000
DTSTAMP:20260420T041531
CREATED:20201217T181127Z
LAST-MODIFIED:20210209T152602Z
UID:6238-1619118000-1619130600@nof.birdlife.se
SUMMARY:Morkullornas kväll vid Ässkogstorp
DESCRIPTION:Morkullorna spelar\, trastarna sjunger och har vi tur sjunger trädlärkan i kvällningen vid Ässkogstorp kl 19.00. Ta med egen korv så grillar vi i väntans tider. \nLars Johansson\, 070 558 99 06 guidar oss i vårkvällen! \nVäganvisning: Gamla Norrköpingsvägen\, ta av mot Ässkogstorp (samma väg som infarten till Stora Ässkog).
URL:https://nof.birdlife.se/evenemang/morkullornas-kvall-vid-asskogstorp/
LOCATION:Ässkogstorp\, Ässkog 307\, Örebro\, 702 21\, Sverige
CATEGORIES:Kvällsexkursion
ATTACH;FMTTYPE=image/jpeg:https://cdn.birdlife.se/wp-content/uploads/sites/29/2020/12/Asskogstorp-2020.jpg
END:VEVENT
BEGIN:VEVENT
DTSTART;TZID=Europe/Stockholm:20210424T090000
DTEND;TZID=Europe/Stockholm:20210424T140000
DTSTAMP:20260420T041531
CREATED:20210209T141036Z
LAST-MODIFIED:20210213T144232Z
UID:6647-1619254800-1619272800@nof.birdlife.se
SUMMARY:Förenklad våtmarksinventering - kan det vara något?
DESCRIPTION:Utbildningsdag för våtmarksinventering. \nEndagskurs i förenklad våtmarksinventering. Teori och praktisk tillämpning. NOF i samarbete med Studiefrämjandet och Svensk Fågeltaxering. Tid: kl 9.00-14.00. \nLedare Kent Halttunen\, tel 070-216 11 30\, mail kent.halttunen@outlook.com \nLänk till Studiefrämjandets hemsida där du kan anmäla dig
URL:https://nof.birdlife.se/evenemang/forenklad-vatmarksinventering-kan-det-vara-nagot/
LOCATION:Närke
CATEGORIES:Studiecirkel
ATTACH;FMTTYPE=image/jpeg:https://nof.birdlife.se/wp-content/uploads/sites/29/2018/07/sidfot4-e1538490422464.jpg
END:VEVENT
BEGIN:VEVENT
DTSTART;TZID=Europe/Stockholm:20210426T180000
DTEND;TZID=Europe/Stockholm:20210426T200000
DTSTAMP:20260420T041531
CREATED:20210423T113434Z
LAST-MODIFIED:20210423T113646Z
UID:7059-1619460000-1619467200@nof.birdlife.se
SUMMARY:Fåglar på åkrarna vid Ormesta
DESCRIPTION:Välkommen på en promenad utöver åkrarna vid Ormesta.\nSamling vid biltvätten i korsningen Hjälmarvägen\, vägen mot Stortorp och norr ut mot Oset.\nVi kommer att röra oss söderut och vända i trakterna av elanläggningen öster Ormesta.\nKontakt Lars Johansson 070 558 99 06.
URL:https://nof.birdlife.se/evenemang/faglar-pa-akrar-vid-ormesta/
LOCATION:Oset\, entré från Hjälmarevägen\, Hjälmarevägen 85\, Örebro\, 70286\, Sverige
CATEGORIES:Guidning
ATTACH;FMTTYPE=image/jpeg:https://cdn.birdlife.se/wp-content/uploads/sites/29/2019/12/Oset-mindre-5.jpg
END:VEVENT
BEGIN:VEVENT
DTSTART;TZID=Europe/Stockholm:20210430T043000
DTEND;TZID=Europe/Stockholm:20210430T110000
DTSTAMP:20260420T041531
CREATED:20201217T181549Z
LAST-MODIFIED:20210424T115824Z
UID:6243-1619757000-1619780400@nof.birdlife.se
SUMMARY:Fantastisk sjöfågelskådning vid Vättern
DESCRIPTION:Häng med till härliga Klåvudden vid Vätterns norra spets. \nPå den här mycket speciella lokalen kan se sjöfåglarna sträcka. \nDet blir en tidig morgon men det kan vara värt besväret för att få se svärta\, sjöorre\, ejder och andra kustfåglar. Samling vid bensinstationen i Harge kl 04.30 för samåkning sista biten. Klä dig varmt\, ta med fika och på den här lokalen bör man ha en tubkikare med sig. Anmäl dig till guiden Kent Halttunen\, kent.halttunen@outlook.com eller 070-2161130
URL:https://nof.birdlife.se/evenemang/fantastisk-sjofagelskadning-vid-vattern/
LOCATION:Klåvudden\, Harge\, Hammar\, 696 94\, Sverige
CATEGORIES:Klåvudden
ATTACH;FMTTYPE=image/jpeg:https://nof.birdlife.se/wp-content/uploads/sites/29/2019/01/Klåvudden.jpg
END:VEVENT
END:VCALENDAR