BEGIN:VCALENDAR
VERSION:2.0
PRODID:-//Närkes ornitologiska förening - ECPv6.15.17.1//NONSGML v1.0//EN
CALSCALE:GREGORIAN
METHOD:PUBLISH
X-WR-CALNAME:Närkes ornitologiska förening
X-ORIGINAL-URL:https://nof.birdlife.se
X-WR-CALDESC:Händelser för Närkes ornitologiska förening
REFRESH-INTERVAL;VALUE=DURATION:PT1H
X-Robots-Tag:noindex
X-PUBLISHED-TTL:PT1H
BEGIN:VTIMEZONE
TZID:Europe/Stockholm
BEGIN:DAYLIGHT
TZOFFSETFROM:+0100
TZOFFSETTO:+0200
TZNAME:CEST
DTSTART:20200329T010000
END:DAYLIGHT
BEGIN:STANDARD
TZOFFSETFROM:+0200
TZOFFSETTO:+0100
TZNAME:CET
DTSTART:20201025T010000
END:STANDARD
BEGIN:DAYLIGHT
TZOFFSETFROM:+0100
TZOFFSETTO:+0200
TZNAME:CEST
DTSTART:20210328T010000
END:DAYLIGHT
BEGIN:STANDARD
TZOFFSETFROM:+0200
TZOFFSETTO:+0100
TZNAME:CET
DTSTART:20211031T010000
END:STANDARD
BEGIN:DAYLIGHT
TZOFFSETFROM:+0100
TZOFFSETTO:+0200
TZNAME:CEST
DTSTART:20220327T010000
END:DAYLIGHT
BEGIN:STANDARD
TZOFFSETFROM:+0200
TZOFFSETTO:+0100
TZNAME:CET
DTSTART:20221030T010000
END:STANDARD
END:VTIMEZONE
BEGIN:VEVENT
DTSTART;TZID=Europe/Stockholm:20210501T070000
DTEND;TZID=Europe/Stockholm:20210501T113000
DTSTAMP:20260420T011913
CREATED:20201217T181850Z
LAST-MODIFIED:20210501T053542Z
UID:6245-1619852400-1619868600@nof.birdlife.se
SUMMARY:NOF:s traditionella Osetvandring
DESCRIPTION:Årets 1 majvandring genom det stadsnära naturreservatet Oset. \n Hur långt har våren kommit\, är fåglarna på plats? \n Exkursionen utgår från Skebäcksparkeringen invid Avloppsreningsverket med samling kl. 7. \n Det blir en härlig promenad under flera timmar\, ta med fika. Mer information Lars Johansson 070 558 99 06.
URL:https://nof.birdlife.se/evenemang/nofs-traditionella-osetvandring/
LOCATION:Oset\, Skebäcksvägen 54\, Örebro\, 702 15\, Sverige
CATEGORIES:Osetexkursion
ATTACH;FMTTYPE=image/jpeg:https://nof.birdlife.se/wp-content/uploads/sites/29/2019/03/Oset-Lars-J.jpg
END:VEVENT
BEGIN:VEVENT
DTSTART;TZID=Europe/Stockholm:20210502T070000
DTEND;TZID=Europe/Stockholm:20210502T113000
DTSTAMP:20260420T011913
CREATED:20201217T182311Z
LAST-MODIFIED:20210422T163006Z
UID:6249-1619938800-1619955000@nof.birdlife.se
SUMMARY:Osetvandring i maj
DESCRIPTION:Följ med på en promenad i Oset nu när vårfåglarna anländer!  \nExkursionen utgår från Skebäcksparkeringen med samling kl. 7. \n Ta gärna med fika! Välkommen! \nMer information Ronnie Lindqvist 070 262 14 17.
URL:https://nof.birdlife.se/evenemang/osetvandring-i-maj/
LOCATION:Oset\, Skebäcksvägen 54\, Örebro\, 702 15\, Sverige
CATEGORIES:Osetexkursion
ATTACH;FMTTYPE=image/jpeg:https://cdn.birdlife.se/wp-content/uploads/sites/29/2019/12/Oset1AA.jpg
END:VEVENT
BEGIN:VEVENT
DTSTART;TZID=Europe/Stockholm:20210505T180000
DTEND;TZID=Europe/Stockholm:20210505T203000
DTSTAMP:20260420T011913
CREATED:20210212T183929Z
LAST-MODIFIED:20210212T184144Z
UID:6740-1620237600-1620246600@nof.birdlife.se
SUMMARY:Kvällsguidning i Oset
DESCRIPTION:Häng med på en kvällspromenad i Oset! \nDenna kvällsexkursion utgår från Skebäcksparkeringen\, med samling kl. 18. Ta med fika!  \nVälkommen! \nMer information: Lars Johansson 070 558 99 06. 
URL:https://nof.birdlife.se/evenemang/kvallsguidning-i-oset/
LOCATION:Oset\, Skebäcksvägen 54\, Örebro\, 702 15\, Sverige
CATEGORIES:Kvällsexkursion
ATTACH;FMTTYPE=image/jpeg:https://nof.birdlife.se/wp-content/uploads/sites/29/2019/03/Oset-4.jpg
END:VEVENT
BEGIN:VEVENT
DTSTART;TZID=Europe/Stockholm:20210506T210000
DTEND;TZID=Europe/Stockholm:20210506T223000
DTSTAMP:20260420T011913
CREATED:20201217T182930Z
LAST-MODIFIED:20210422T164648Z
UID:6255-1620334800-1620340200@nof.birdlife.se
SUMMARY:Dubbelbeckasinlyssning vid Ruinen\, Rånnesta
DESCRIPTION:Dubbelbeckasinen och dvärgbeckasinen spelar bara en kort tid i Tysslingen. \nHar vi prickat rätt datum? \nHåll korpgluggarna öppna för mer info på vår hemsida och facebooksidan! \nKontakt Ronnie Lindqvist 070 262 14 17
URL:https://nof.birdlife.se/evenemang/dubbelbeckasinlyssning-vid-ruinen-rannesta/
LOCATION:Rånnesta\, Tysslingen\, Svansjön Tysslingen\, 70592\, Sverige
CATEGORIES:Kvällsexkursion
ATTACH;FMTTYPE=image/jpeg:https://nof.birdlife.se/wp-content/uploads/sites/29/2019/03/Dubbelbeckasinlyssning.jpg
END:VEVENT
BEGIN:VEVENT
DTSTART;TZID=Europe/Stockholm:20210508T050000
DTEND;TZID=Europe/Stockholm:20210508T130000
DTSTAMP:20260420T011913
CREATED:20210423T114922Z
LAST-MODIFIED:20210423T120612Z
UID:7055-1620450000-1620478800@nof.birdlife.se
SUMMARY:Vårfåglar Inpå Knuten
DESCRIPTION:Vårfåglar Inpå Knuten erbjuder ett alternativ till den traditionella Fågeltornskampen som ordnats varje vår. Syftet med Vårfåglar Inpå Knuten är att tillbringa en trevlig och trygg dag i fågelskådandets tecken samt att hitta fåglarna i närmiljön. Samtidigt räknas hur många fågelarter som observeras och artbestäms från det egna lägenhetsfönstret\, farstubron eller bryggan nere vid den närliggande sjön. \nSe mera information här
URL:https://nof.birdlife.se/evenemang/varfaglar-inpa-knuten/
ATTACH;FMTTYPE=image/jpeg:https://cdn.birdlife.se/wp-content/uploads/sites/29/2021/04/Sadesarla-Ronnie-Svensson.jpg
END:VEVENT
BEGIN:VEVENT
DTSTART;TZID=Europe/Stockholm:20210508T050000
DTEND;TZID=Europe/Stockholm:20210508T130000
DTSTAMP:20260420T011913
CREATED:20210424T141915Z
LAST-MODIFIED:20210424T142136Z
UID:7097-1620450000-1620478800@nof.birdlife.se
SUMMARY:Lilla Fågeltornskampen i Närke
DESCRIPTION:NOF arrangerar lilla Fågeltornskampen mellan kl 5 och 13. Ett antal torn i Närke bemannas\, men på grund av pandemin blir det ett begränsat deltagarantal. Hör av dig till Kent Halttunen om du vill delta: kent.halttunen@outlook.com 070-2161130 \n 
URL:https://nof.birdlife.se/evenemang/lilla-fageltornskampen-och-varfaglar-inpa-knuten/
END:VEVENT
BEGIN:VEVENT
DTSTART;TZID=Europe/Stockholm:20210509T070000
DTEND;TZID=Europe/Stockholm:20210509T100000
DTSTAMP:20260420T011913
CREATED:20210423T122713Z
LAST-MODIFIED:20210423T141551Z
UID:7061-1620543600-1620554400@nof.birdlife.se
SUMMARY:Fågelskådningens dag - Fjugesta
DESCRIPTION:Häng med på en härlig morgonpromenad på Fågelskådningens dag och upptäck alla fåglar vid Vattenparken och Reningsdam­men i Fjugesta. Samling kl. 7. \nMer info: kent.halttunen@outlook.com 070-216 11 30. \nBild: Citronärla av Torbjörn Arvidson.
URL:https://nof.birdlife.se/evenemang/fagelskadningens-dag-fjugesta/
LOCATION:Fjugesta\, reningsdammarna\, Tegelslagaregatan 5\, Fjugesta\, 71630\, Sverige
ATTACH;FMTTYPE=image/jpeg:https://nof.birdlife.se/wp-content/uploads/sites/29/2018/10/citronärla.jpg
END:VEVENT
BEGIN:VEVENT
DTSTART;TZID=Europe/Stockholm:20210509T070000
DTEND;TZID=Europe/Stockholm:20210509T113000
DTSTAMP:20260420T011913
CREATED:20210212T180618Z
LAST-MODIFIED:20210212T211507Z
UID:6733-1620543600-1620559800@nof.birdlife.se
SUMMARY:Fågelskådningens dag
DESCRIPTION:Hur långt har våren kommit i Oset?\nHar vårfåglarna anlänt? \nExkursionen utgår från Skebäcksparkeringen med samling kl. 7. \n Ta gärna med fika! Välkommen! \nMer information Lars Johansson 070 558 99 06.
URL:https://nof.birdlife.se/evenemang/osetvandring-i-maj-2/
LOCATION:Oset\, Skebäcksvägen 54\, Örebro\, 702 15\, Sverige
CATEGORIES:Fågelskådningens dag
ATTACH;FMTTYPE=image/jpeg:https://cdn.birdlife.se/wp-content/uploads/sites/29/2019/12/Oset-mindre-3.jpg
END:VEVENT
BEGIN:VEVENT
DTSTART;TZID=Europe/Stockholm:20210512T180000
DTEND;TZID=Europe/Stockholm:20210512T203000
DTSTAMP:20260420T011913
CREATED:20210212T184429Z
LAST-MODIFIED:20210508T095058Z
UID:6743-1620842400-1620851400@nof.birdlife.se
SUMMARY:Kvällsguidning i Oset
DESCRIPTION:Häng med på en kvällspromenad i Oset! \nDenna kvällsexkursion utgår från Skebäcksparkeringen\, med samling kl. 18. Ta med fika!  \nVälkommen! \nMer information: Ronnie Lindqvist 070 262 14 17. 
URL:https://nof.birdlife.se/evenemang/kvallsguidning-i-oset-3/
LOCATION:Oset\, Skebäcksvägen 54\, Örebro\, 702 15\, Sverige
CATEGORIES:Kvällsexkursion
ATTACH;FMTTYPE=image/jpeg:https://cdn.birdlife.se/wp-content/uploads/sites/29/2019/12/Oset-mindre-1.jpg
END:VEVENT
BEGIN:VEVENT
DTSTART;TZID=Europe/Stockholm:20210512T190000
DTEND;TZID=Europe/Stockholm:20210512T210000
DTSTAMP:20260420T011913
CREATED:20210209T153156Z
LAST-MODIFIED:20210508T094905Z
UID:6656-1620846000-1620853200@nof.birdlife.se
SUMMARY:Fåglar i Viaskogen\, Kumla
DESCRIPTION:Välkommen att upptäcka denna skogspärla i Kumla. Det blir en kvällsguidning i Viaskogen kl. 19–21. Samling vid p-platsen och infotavlorna vid södra änden av Vialundsvägen. Ta med kikare om du har\, men framför allt spetsade öron\, då vi säkert kommer att höra fler fåglar än vad vi ser. Mer information: Frank Tholfsson 070 558 17 22. \nHitta till Viaskogen\nViaskogens naturreservat ligger i södra delen av Kumla tätort i direkt anslutning till Köpmangatans södra del. Vid reservatsgränsen finns parkeringsplatser och informationstavlor. Södra änden av Vialundsvägen.
URL:https://nof.birdlife.se/evenemang/faglar-i-viaskogen-kumla/
LOCATION:Viaskogen\, Kumla\, Viaspåret\, Viaskogen\, Köpmangatan\,\, Kumla\, 692 80\, Sverige
CATEGORIES:Kvällsexkursion
ATTACH;FMTTYPE=image/jpeg:https://cdn.birdlife.se/wp-content/uploads/sites/29/2020/02/Brandkronad-kungsf%C3%A5gel.jpg
END:VEVENT
BEGIN:VEVENT
DTSTART;TZID=Europe/Stockholm:20210515T070000
DTEND;TZID=Europe/Stockholm:20210515T110000
DTSTAMP:20260420T011913
CREATED:20210209T153406Z
LAST-MODIFIED:20210509T232851Z
UID:6658-1621062000-1621076400@nof.birdlife.se
SUMMARY:INSTÄLLT! - En morgontur i Viaskogen\, Kumla
DESCRIPTION:Guidningen i Viaskogen\, Kumla fortsätter med en morgonguidning kl. 7. Samling vid p-platsen och infotavlorna vid södra änden av Vialundsvägen. Ta med kikare\, men framför allt spetsade öron\, då vi säkert kommer att höra fler fåglar än vad vi ser. \nMer information: Bengt Andersson 070 693 33 65. \nHitta till Viaskogen\nViaskogens naturreservat ligger i södra delen av Kumla tätort i direkt anslutning till Köpmangatans södra del. Vid reservatsgränsen finns parkeringsplatser och informationstavlor. Södra änden av Vialundsvägen.
URL:https://nof.birdlife.se/evenemang/en-morgontur-i-viaskogen-kumla/
LOCATION:Viaskogen\, Kumla\, Viaspåret\, Viaskogen\, Köpmangatan\,\, Kumla\, 692 80\, Sverige
CATEGORIES:Guidning
ATTACH;FMTTYPE=image/jpeg:https://cdn.birdlife.se/wp-content/uploads/sites/29/2020/03/Garphyytan-2020-3-GB.jpg
END:VEVENT
BEGIN:VEVENT
DTSTART;TZID=Europe/Stockholm:20210516T070000
DTEND;TZID=Europe/Stockholm:20210516T113000
DTSTAMP:20260420T011913
CREATED:20210213T091052Z
LAST-MODIFIED:20210422T165235Z
UID:6757-1621148400-1621164600@nof.birdlife.se
SUMMARY:Osetguidning i maj
DESCRIPTION:Följ med på en promenad i Oset nu när vårfåglarna anländer!  \nExkursionen utgår från Skebäcksparkeringen med samling kl. 7. \n Ta gärna med fika! Välkommen! \nMer information Anastasia Valenta 070 071 17 17.
URL:https://nof.birdlife.se/evenemang/osetguidning-i-maj/
LOCATION:Oset\, Skebäcksvägen 54\, Örebro\, 702 15\, Sverige
CATEGORIES:Osetexkursion
ATTACH;FMTTYPE=image/jpeg:https://nof.birdlife.se/wp-content/uploads/sites/29/2019/03/Oset-6-MJ.jpg
END:VEVENT
BEGIN:VEVENT
DTSTART;TZID=Europe/Stockholm:20210519T180000
DTEND;TZID=Europe/Stockholm:20210519T203000
DTSTAMP:20260420T011913
CREATED:20210213T145937Z
LAST-MODIFIED:20210213T145958Z
UID:6767-1621447200-1621456200@nof.birdlife.se
SUMMARY:Kvällsguidning i Oset
DESCRIPTION:Häng med på en kvällspromenad i Oset! \nDenna kvällsexkursion utgår från Skebäcksparkeringen\, med samling kl. 18. Ta med fika!  \nVälkommen! \nMer information: Lars Johansson 070 558 99 06.
URL:https://nof.birdlife.se/evenemang/6767/
LOCATION:Oset\, Skebäcksvägen 54\, Örebro\, 702 15\, Sverige
CATEGORIES:Kvällsexkursion
ATTACH;FMTTYPE=image/jpeg:https://nof.birdlife.se/wp-content/uploads/sites/29/2019/03/Oset-1.jpg
END:VEVENT
BEGIN:VEVENT
DTSTART;TZID=Europe/Stockholm:20210522T064500
DTEND;TZID=Europe/Stockholm:20210522T120000
DTSTAMP:20260420T011913
CREATED:20210225T151028Z
LAST-MODIFIED:20210423T091626Z
UID:6824-1621665900-1621684800@nof.birdlife.se
SUMMARY:Biologiska mångfaldens dag - Dovrasjödalen
DESCRIPTION:På biologiska mångfaldens dag\, lördag den 22 maj\, genomförs en Bioblitz i Dovra naturreservat mellan Hallsberg och Vretstorp. Tanken är att under dagen inventera området på alla levande organismer. Frank Tholfsson och Hans Waern från NOF inventerar fåglar och Ronnie Lindqvist guidar. Vi finns på plats kl. 7-12 och fågelguidar i smågrupper. Välkommen att delta. \nArrangör: Närkes Ornitologiska Förening och Hopajola. \nKontakt Ronnie Lindqvist 070 262 14 17. \nSamling vid naturreservatets norra parkering. \nLänk till Naturreservatet Dovrasjödalen \n  \n 
URL:https://nof.birdlife.se/evenemang/biologiska-mangfaldens-dag-dovrasjodalen/
LOCATION:Dovrasjödalen\, 694 60\, Sverige
CATEGORIES:Bioblitz
ATTACH;FMTTYPE=image/jpeg:https://cdn.birdlife.se/wp-content/uploads/sites/29/2021/02/Kungsfagel-Pernilla-Frimodig.jpg
GEO:58.984472;15.069501
END:VEVENT
BEGIN:VEVENT
DTSTART;TZID=Europe/Stockholm:20210522T070000
DTEND;TZID=Europe/Stockholm:20210522T100000
DTSTAMP:20260420T011913
CREATED:20210225T150950Z
LAST-MODIFIED:20210423T091917Z
UID:6829-1621666800-1621677600@nof.birdlife.se
SUMMARY:Biologiska mångfaldens dag - Sörbyskogen
DESCRIPTION:NOF och Naturskyddsföreningen genomför en liten Bioblitz i Sörbyskogen i Örebro. Det sker på biologiska mångfaldens dag lördag den 22 maj\, kl. 7-10. Då inventeras alla levande organismer i området. Samling Cafe Skogen klockan 7. \nKontakt Lars Johansson 070 558 99 06 fågelguidar.
URL:https://nof.birdlife.se/evenemang/biologiska-mangfaldens-dag-sorbyskogen/
LOCATION:Sörbyskogen\, Örebro\, Sörbyvägen 15\, Örebro\, 702 21\, Sverige
CATEGORIES:Bioblitz
ATTACH;FMTTYPE=image/jpeg:https://cdn.birdlife.se/wp-content/uploads/sites/29/2020/12/rodhake-pex-800.jpg
GEO:59.244116;15.2190973
X-APPLE-STRUCTURED-LOCATION;VALUE=URI;X-ADDRESS=Sörbyskogen Örebro Sörbyvägen 15 Örebro 702 21 Sverige;X-APPLE-RADIUS=500;X-TITLE=Sörbyvägen 15:geo:15.2190973,59.244116
END:VEVENT
BEGIN:VEVENT
DTSTART;TZID=Europe/Stockholm:20210522T150000
DTEND;TZID=Europe/Stockholm:20210522T170000
DTSTAMP:20260420T011913
CREATED:20210514T071156Z
LAST-MODIFIED:20210514T071957Z
UID:7131-1621695600-1621702800@nof.birdlife.se
SUMMARY:NY! - Biologiska mångfaldens dag - odlingslandskapet
DESCRIPTION:Välkommen att följa med på en vandring lördag 22 maj kl. 15-17\, där vi ställer frågan ”Kan vi göra något för att rädda mångfalden i odlingslandskapet?” \nSamling vid biltvätthallen vid Närkes Maskin\, vid södra infarten till Oset. Kontakt Lars Johansson\, 070 558 99 06\, som är vår guide.
URL:https://nof.birdlife.se/evenemang/ny-biologiska-mangfaldens-dag-odlingslandskapet/
LOCATION:Oset\, entré från Hjälmarevägen\, Hjälmarevägen 85\, Örebro\, 70286\, Sverige
ATTACH;FMTTYPE=image/jpeg:https://cdn.birdlife.se/wp-content/uploads/sites/29/2020/05/Lars-Johansson-visar-sin-biologiska-odling.jpg
END:VEVENT
BEGIN:VEVENT
DTSTART;TZID=Europe/Stockholm:20210523T070000
DTEND;TZID=Europe/Stockholm:20210523T113000
DTSTAMP:20260420T011913
CREATED:20210213T091430Z
LAST-MODIFIED:20210213T091430Z
UID:6759-1621753200-1621769400@nof.birdlife.se
SUMMARY:Osetguidning i maj
DESCRIPTION:Följ med på en promenad i Oset nu när vårfåglarna anländer!  \nExkursionen utgår från Skebäcksparkeringen med samling kl. 7. \n Ta gärna med fika! Välkommen! \nMer information Lars Johansson 070 558 99 06.
URL:https://nof.birdlife.se/evenemang/osetguidning-i-maj-2/
LOCATION:Oset\, Skebäcksvägen 54\, Örebro\, 702 15\, Sverige
CATEGORIES:Osetexkursion
ATTACH;FMTTYPE=image/jpeg:https://nof.birdlife.se/wp-content/uploads/sites/29/2019/01/Oset-tjejerna.jpg
END:VEVENT
BEGIN:VEVENT
DTSTART;TZID=Europe/Stockholm:20210526T180000
DTEND;TZID=Europe/Stockholm:20210526T203000
DTSTAMP:20260420T011913
CREATED:20210213T150337Z
LAST-MODIFIED:20210213T150337Z
UID:6770-1622052000-1622061000@nof.birdlife.se
SUMMARY:Kvällsguidning i Oset
DESCRIPTION:Häng med på en kvällspromenad i Oset! \nDenna kvällsexkursion utgår från Skebäcksparkeringen\, med samling kl. 18. Ta med fika!  \nVälkommen! \nMer information: Lars Johansson 070 558 99 06.
URL:https://nof.birdlife.se/evenemang/kvallsguidning-i-oset-4/
LOCATION:Oset\, Skebäcksvägen 54\, Örebro\, 702 15\, Sverige
CATEGORIES:Kvällsexkursion
ATTACH;FMTTYPE=image/jpeg:https://nof.birdlife.se/wp-content/uploads/sites/29/2019/07/I-Erik-Rosenbergs-fotspår-11-juli-2019-6-mindre.jpg
END:VEVENT
BEGIN:VEVENT
DTSTART;TZID=Europe/Stockholm:20210529T060000
DTEND;TZID=Europe/Stockholm:20210529T140000
DTSTAMP:20260420T011913
CREATED:20210209T154021Z
LAST-MODIFIED:20210210T100435Z
UID:6664-1622268000-1622296800@nof.birdlife.se
SUMMARY:Nyhet - Knuthöjdsmossen
DESCRIPTION:Äntligen blir det av – en resa till Knuthöjdsmossen i Hällefors! \nDet blir en tidig morgon vid Knuthöjdsmossen för att höra smålommen och kanske orrspel. En underbar morgon kan vi lova! Samling vid Måltidens hus i Grythyttan kl 06.00. Mer information: Lars Johansson 070 558 99 06. \nLänsstyrelsens faktablad.
URL:https://nof.birdlife.se/evenemang/nyhet-knuthojdsmossen/
LOCATION:Knuthöjdsmossen\, Hällefors\, 712 93\, Sverige
CATEGORIES:Fågelresa
ATTACH;FMTTYPE=image/jpeg:https://cdn.birdlife.se/wp-content/uploads/sites/29/2021/02/Knuthojdsmossen-2016.jpg
GEO:59.7862034;14.504689
END:VEVENT
BEGIN:VEVENT
DTSTART;TZID=Europe/Stockholm:20210530T070000
DTEND;TZID=Europe/Stockholm:20210530T113000
DTSTAMP:20260420T011913
CREATED:20210213T145259Z
LAST-MODIFIED:20210213T145439Z
UID:6763-1622358000-1622374200@nof.birdlife.se
SUMMARY:Vårens sista guidning i Oset
DESCRIPTION:Följ med på en promenad i Oset nu när vårfåglarna anländer!  \nExkursionen utgår från Skebäcksparkeringen med samling kl. 7. \n Ta gärna med fika! Välkommen! \nMer information Lars Johansson 070 558 99 06.
URL:https://nof.birdlife.se/evenemang/varens-sista-majguidning-i-oset/
LOCATION:Oset\, Skebäcksvägen 54\, Örebro\, 702 15\, Sverige
CATEGORIES:Osetexkursion
ATTACH;FMTTYPE=image/jpeg:https://nof.birdlife.se/wp-content/uploads/sites/29/2019/02/Lillängen.jpg
END:VEVENT
END:VCALENDAR