BEGIN:VCALENDAR
VERSION:2.0
PRODID:-//Närkes ornitologiska förening - ECPv6.15.17.1//NONSGML v1.0//EN
CALSCALE:GREGORIAN
METHOD:PUBLISH
X-ORIGINAL-URL:https://nof.birdlife.se
X-WR-CALDESC:Händelser för Närkes ornitologiska förening
REFRESH-INTERVAL;VALUE=DURATION:PT1H
X-Robots-Tag:noindex
X-PUBLISHED-TTL:PT1H
BEGIN:VTIMEZONE
TZID:Europe/Stockholm
BEGIN:DAYLIGHT
TZOFFSETFROM:+0100
TZOFFSETTO:+0200
TZNAME:CEST
DTSTART:20200329T010000
END:DAYLIGHT
BEGIN:STANDARD
TZOFFSETFROM:+0200
TZOFFSETTO:+0100
TZNAME:CET
DTSTART:20201025T010000
END:STANDARD
BEGIN:DAYLIGHT
TZOFFSETFROM:+0100
TZOFFSETTO:+0200
TZNAME:CEST
DTSTART:20210328T010000
END:DAYLIGHT
BEGIN:STANDARD
TZOFFSETFROM:+0200
TZOFFSETTO:+0100
TZNAME:CET
DTSTART:20211031T010000
END:STANDARD
BEGIN:DAYLIGHT
TZOFFSETFROM:+0100
TZOFFSETTO:+0200
TZNAME:CEST
DTSTART:20220327T010000
END:DAYLIGHT
BEGIN:STANDARD
TZOFFSETFROM:+0200
TZOFFSETTO:+0100
TZNAME:CET
DTSTART:20221030T010000
END:STANDARD
END:VTIMEZONE
BEGIN:VEVENT
DTSTART;TZID=Europe/Stockholm:20210601T060000
DTEND;TZID=Europe/Stockholm:20210601T190000
DTSTAMP:20260419T235311
CREATED:20210209T153716Z
LAST-MODIFIED:20210423T092142Z
UID:6660-1622527200-1622574000@nof.birdlife.se
SUMMARY:INSTÄLLT! - Resa till Nidingen och Västkusten
DESCRIPTION:Planering pågår för en resa till Nidingen. När fågellivet är som intensivast runt vår kust\, då blir det några spännande dagar på ön. Se vår hemsida för mera information. Ansvarig: Kent Halttunen. 070 216 11 30.
URL:https://nof.birdlife.se/evenemang/resa-till-nidingen-och-vastkusten/
CATEGORIES:Fågelresa
ATTACH;FMTTYPE=image/png:https://cdn.birdlife.se/wp-content/uploads/sites/29/2020/02/Nidingen.png
END:VEVENT
BEGIN:VEVENT
DTSTART;TZID=Europe/Stockholm:20210605T050000
DTEND;TZID=Europe/Stockholm:20210605T070000
DTSTAMP:20260419T235311
CREATED:20210515T165210Z
LAST-MODIFIED:20210516T085612Z
UID:7133-1622869200-1622876400@nof.birdlife.se
SUMMARY:NY! - Stadsvandring i arla morgonstund
DESCRIPTION:Upplev hur fåglarna och staden vaknar. Finns den svarta rödstjärten vid slottet och forsärlan vid slussen? Är ärtsångaren\, steglitsarna och stenknäcken på plats i Stadsparken och bävern på Stora holmen?\nVi samlas vid korsningen Skyttegatan/Slussgatan\, och startar vandringen kl. 05:00.\nRäkna med att vi är ute ca två timmar\, varefter frukosten kommer att smaka bra hemma.\nLars Johansson är vår ciceron denna morgon\, kontakt 070 558 99 06.
URL:https://nof.birdlife.se/evenemang/ny-stadsvandring-i-arla-morgonstund/
LOCATION:Skyttegatan/Slussgatan\, Slussgatan 15a\, Örebro\, Sverige
ATTACH;FMTTYPE=image/jpeg:https://cdn.birdlife.se/wp-content/uploads/sites/29/2021/05/Forsarla-1.jpg
GEO:59.2703116;15.2360802
X-APPLE-STRUCTURED-LOCATION;VALUE=URI;X-ADDRESS=Skyttegatan/Slussgatan Slussgatan 15a Örebro Sverige;X-APPLE-RADIUS=500;X-TITLE=Slussgatan 15a:geo:15.2360802,59.2703116
END:VEVENT
BEGIN:VEVENT
DTSTART;TZID=Europe/Stockholm:20210611T200000
DTEND;TZID=Europe/Stockholm:20210611T233000
DTSTAMP:20260419T235311
CREATED:20210209T154217Z
LAST-MODIFIED:20210209T155620Z
UID:6666-1623441600-1623454200@nof.birdlife.se
SUMMARY:Nattskärrorna spelar i natten...
DESCRIPTION:En exkursion till Kilsbergen. Vi åker till en plats i Kilsbergen för att hitta och höra nattskärran spela. Samling kl. 20.00\, Haga centrum\, stora parkeringen väster om centrum. Var och en åker för sig. Åter i bästa/värsta fall inpå småtimmarna. Mer information: Lars Johansson 070 558 99 06.
URL:https://nof.birdlife.se/evenemang/nattskarrorna-spelar-i-natten/
ATTACH;FMTTYPE=image/jpeg:https://cdn.birdlife.se/wp-content/uploads/sites/29/2020/06/Nattexkursion-juni-2020.jpg
END:VEVENT
END:VCALENDAR