BEGIN:VCALENDAR
VERSION:2.0
PRODID:-//Närkes ornitologiska förening - ECPv6.15.17.1//NONSGML v1.0//EN
CALSCALE:GREGORIAN
METHOD:PUBLISH
X-WR-CALNAME:Närkes ornitologiska förening
X-ORIGINAL-URL:https://nof.birdlife.se
X-WR-CALDESC:Händelser för Närkes ornitologiska förening
REFRESH-INTERVAL;VALUE=DURATION:PT1H
X-Robots-Tag:noindex
X-PUBLISHED-TTL:PT1H
BEGIN:VTIMEZONE
TZID:Europe/Stockholm
BEGIN:DAYLIGHT
TZOFFSETFROM:+0100
TZOFFSETTO:+0200
TZNAME:CEST
DTSTART:20200329T010000
END:DAYLIGHT
BEGIN:STANDARD
TZOFFSETFROM:+0200
TZOFFSETTO:+0100
TZNAME:CET
DTSTART:20201025T010000
END:STANDARD
BEGIN:DAYLIGHT
TZOFFSETFROM:+0100
TZOFFSETTO:+0200
TZNAME:CEST
DTSTART:20210328T010000
END:DAYLIGHT
BEGIN:STANDARD
TZOFFSETFROM:+0200
TZOFFSETTO:+0100
TZNAME:CET
DTSTART:20211031T010000
END:STANDARD
BEGIN:DAYLIGHT
TZOFFSETFROM:+0100
TZOFFSETTO:+0200
TZNAME:CEST
DTSTART:20220327T010000
END:DAYLIGHT
BEGIN:STANDARD
TZOFFSETFROM:+0200
TZOFFSETTO:+0100
TZNAME:CET
DTSTART:20221030T010000
END:STANDARD
END:VTIMEZONE
BEGIN:VEVENT
DTSTART;TZID=Europe/Stockholm:20211107T080000
DTEND;TZID=Europe/Stockholm:20211107T120000
DTSTAMP:20260419T154748
CREATED:20210828T110414Z
LAST-MODIFIED:20210828T114637Z
UID:7227-1636272000-1636286400@nof.birdlife.se
SUMMARY:Novemberdisets vänner
DESCRIPTION:Söndag 7 november. Södra Hjälmarkanten kan ibland bjuda på riklig förekomst av fåglar\, även en grådisig novemberdag. Vi besöker Engelbrektsholmen\, Katrinelund och flera andra trevliga fågellokaler under förmiddagen. Kanske får vi se storskrakarnas fiske i flock\, salskrakar som rastar och mycket mer. \nSamling vid kyrkan i Stora Mellösa kl. 08:00. Ta med fika. \nRonnie Lindqvist guidar\, 070-262 14 17. \nBild: Eva Georgii-Hemming
URL:https://nof.birdlife.se/evenemang/novemberdisets-vanner/
LOCATION:Stora Mellösa kyrka\, Göksholmsvägen 6\, Stora Mellösa\, 715 72
CATEGORIES:Exkursion
ATTACH;FMTTYPE=image/jpeg:https://cdn.birdlife.se/wp-content/uploads/sites/29/2021/06/A%CC%88nder-i-dimma-170105-1-mindre.jpg
GEO:59.2131859;15.5041725
X-APPLE-STRUCTURED-LOCATION;VALUE=URI;X-ADDRESS=Stora Mellösa kyrka Göksholmsvägen 6 Stora Mellösa 715 72;X-APPLE-RADIUS=500;X-TITLE=Göksholmsvägen 6:geo:15.5041725,59.2131859
END:VEVENT
BEGIN:VEVENT
DTSTART;TZID=Europe/Stockholm:20211118T183000
DTEND;TZID=Europe/Stockholm:20211118T203000
DTSTAMP:20260419T154748
CREATED:20210828T114738Z
LAST-MODIFIED:20211028T184234Z
UID:7230-1637260200-1637267400@nof.birdlife.se
SUMMARY:Månadsmöte 18 november
DESCRIPTION:Torsdag 18 november. \nFöreningsmöte torsdag 18 november 2021 på Föreningarnas Hus kl. 18:30-20:30. OBS! Föranmälan gäller. \nNy tidpunkt och lokal för mötet\, se nedan. \n  \nGabriel Norevik från Lunds universitet presenterar den forskning han har bedrivit på nattskärror. Han har studerat vilken påverkan måncykeln och skenet från månen har\, när fåglarna lyfter för sin tre månader långa flytt till områden söder om Sahara. \n  \nPrecis som vid månadsmötet i oktober hålls mötet på Föreningarnas Hus\, Slottsgatan 13A i Örebro. Eftersom det finns begränsningar i lokalen vill vi att du anmäler att du kommer på mötet. Anmälan görs till Anastasia via mail nof.anastasia@gmail.com eller sms 070-71 17 17 (via telefon efter kl. 16:00). Föredraget är som vanligt gratis och fikat kostar 30 kr (meddela gärna om du önskar glutenfritt el dyl). \nVarmt välkomna\, men stanna hemma om du känner dig sjuk. \n  \nKarta\, länk från Google Maps: https://goo.gl/maps/1ZvWaV7AZXU4QCg37 \n  \nBild: Forskaren Gabriel Norevik med en infångad nattskärra. Foto: Aron Hejdström
URL:https://nof.birdlife.se/evenemang/manadsmote-3/
LOCATION:Föreningarnas Hus\, Slottsgatan 13 a\, Örebro\, 70361\, Sverige
CATEGORIES:Inomhusmöte
ATTACH;FMTTYPE=image/jpeg:https://cdn.birdlife.se/wp-content/uploads/sites/29/2021/10/Nattskarra-Gabriel-Norevik.jpg
GEO:59.2784994;15.2196156
X-APPLE-STRUCTURED-LOCATION;VALUE=URI;X-ADDRESS=Föreningarnas Hus Slottsgatan 13 a Örebro 70361 Sverige;X-APPLE-RADIUS=500;X-TITLE=Slottsgatan 13 a:geo:15.2196156,59.2784994
END:VEVENT
END:VCALENDAR