BEGIN:VCALENDAR
VERSION:2.0
PRODID:-//Närkes ornitologiska förening - ECPv6.15.17.1//NONSGML v1.0//EN
CALSCALE:GREGORIAN
METHOD:PUBLISH
X-WR-CALNAME:Närkes ornitologiska förening
X-ORIGINAL-URL:https://nof.birdlife.se
X-WR-CALDESC:Händelser för Närkes ornitologiska förening
REFRESH-INTERVAL;VALUE=DURATION:PT1H
X-Robots-Tag:noindex
X-PUBLISHED-TTL:PT1H
BEGIN:VTIMEZONE
TZID:Europe/Stockholm
BEGIN:DAYLIGHT
TZOFFSETFROM:+0100
TZOFFSETTO:+0200
TZNAME:CEST
DTSTART:20200329T010000
END:DAYLIGHT
BEGIN:STANDARD
TZOFFSETFROM:+0200
TZOFFSETTO:+0100
TZNAME:CET
DTSTART:20201025T010000
END:STANDARD
BEGIN:DAYLIGHT
TZOFFSETFROM:+0100
TZOFFSETTO:+0200
TZNAME:CEST
DTSTART:20210328T010000
END:DAYLIGHT
BEGIN:STANDARD
TZOFFSETFROM:+0200
TZOFFSETTO:+0100
TZNAME:CET
DTSTART:20211031T010000
END:STANDARD
BEGIN:DAYLIGHT
TZOFFSETFROM:+0100
TZOFFSETTO:+0200
TZNAME:CEST
DTSTART:20220327T010000
END:DAYLIGHT
BEGIN:STANDARD
TZOFFSETFROM:+0200
TZOFFSETTO:+0100
TZNAME:CET
DTSTART:20221030T010000
END:STANDARD
END:VTIMEZONE
BEGIN:VEVENT
DTSTART;TZID=Europe/Stockholm:20210912T080000
DTEND;TZID=Europe/Stockholm:20210912T130000
DTSTAMP:20260419T203438
CREATED:20210622T154042Z
LAST-MODIFIED:20210828T114343Z
UID:7215-1631433600-1631451600@nof.birdlife.se
SUMMARY:Rävahänget (uppdaterad)
DESCRIPTION:Söndag 12 september. Vad får vi se under årets upplaga av Rävahänget? Den här aktiviteten för hela familjen har blivit en populär tradition. NOF bjuder på fågelguidning\, korvgrillning vid lägerelden och frågetävling. Ibland dyker även någon trevlig flyttfågel upp under dagen. \nVälkomna till Rävgången\, prata fåglar med NOFs guider och med varandra under trivsamma former kl. 08:00-13:00. \nInfo: Ronnie Lindqvist\, 070-262 14 17 \n(Bild: Från Rävahänget 2019)
URL:https://nof.birdlife.se/evenemang/ravahanget/
LOCATION:Rävgången\, Rävgången
CATEGORIES:Guidning
ATTACH;FMTTYPE=image/jpeg:https://nof.birdlife.se/wp-content/uploads/sites/29/2019/09/rävahängwebb.jpeg
GEO:59.284825611993;15.258486770498
X-APPLE-STRUCTURED-LOCATION;VALUE=URI;X-ADDRESS=Rävgången Rävgången;X-APPLE-RADIUS=500;X-TITLE=Rävgången:geo:15.258486770498,59.284825611993
END:VEVENT
END:VCALENDAR