BEGIN:VCALENDAR
VERSION:2.0
PRODID:-//Närkes ornitologiska förening - ECPv6.15.17.1//NONSGML v1.0//EN
CALSCALE:GREGORIAN
METHOD:PUBLISH
X-WR-CALNAME:Närkes ornitologiska förening
X-ORIGINAL-URL:https://nof.birdlife.se
X-WR-CALDESC:Händelser för Närkes ornitologiska förening
REFRESH-INTERVAL;VALUE=DURATION:PT1H
X-Robots-Tag:noindex
X-PUBLISHED-TTL:PT1H
BEGIN:VTIMEZONE
TZID:Europe/Stockholm
BEGIN:DAYLIGHT
TZOFFSETFROM:+0100
TZOFFSETTO:+0200
TZNAME:CEST
DTSTART:20230326T010000
END:DAYLIGHT
BEGIN:STANDARD
TZOFFSETFROM:+0200
TZOFFSETTO:+0100
TZNAME:CET
DTSTART:20231029T010000
END:STANDARD
BEGIN:DAYLIGHT
TZOFFSETFROM:+0100
TZOFFSETTO:+0200
TZNAME:CEST
DTSTART:20240331T010000
END:DAYLIGHT
BEGIN:STANDARD
TZOFFSETFROM:+0200
TZOFFSETTO:+0100
TZNAME:CET
DTSTART:20241027T010000
END:STANDARD
BEGIN:DAYLIGHT
TZOFFSETFROM:+0100
TZOFFSETTO:+0200
TZNAME:CEST
DTSTART:20250330T010000
END:DAYLIGHT
BEGIN:STANDARD
TZOFFSETFROM:+0200
TZOFFSETTO:+0100
TZNAME:CET
DTSTART:20251026T010000
END:STANDARD
END:VTIMEZONE
BEGIN:VEVENT
DTSTART;TZID=Europe/Stockholm:20240927T090000
DTEND;TZID=Europe/Stockholm:20240928T170000
DTSTAMP:20260421T104834
CREATED:20240817T133554Z
LAST-MODIFIED:20240910T093320Z
UID:11378-1727427600-1727542800@nof.birdlife.se
SUMMARY:Rosenbergdagarna 2024
DESCRIPTION:Fredag 27 – lördag 28 september. \nÅrets tema är biologisk mångfald i länets vatten och våtmarker. Fredagen ägnas åt en rad intressanta seminarier med fokus på våtmarker. Bland annat kommer Ronnie Lindqvist berätta om hur fåglarna påverkas av nyskapade våtmarker. NOF kommer också att dela ut Erik Rosenbergs naurvårdspris. På lördagen finns det möjlighet att åka med och se hur olika våtmarksprojekt fungerar i verkligheten\, bl.a. den spännande och nyanlagda våtmarken vid Heden i Örebro. \nOBS! Anmälan krävs. \nHär finns mer info om programmet och hur du anmäler dig: \nhttps://www.studieframjandet.se/Hopajola/rosenbergdagarna/ \n  \n 
URL:https://nof.birdlife.se/evenemang/rosenbergdagarna-2024/
LOCATION:Närke
CATEGORIES:Rosenbergsdagarna
ATTACH;FMTTYPE=image/jpeg:https://cdn.birdlife.se/wp-content/uploads/sites/29/2024/08/rosenbergdagarna_2024_utokad.jpg
END:VEVENT
END:VCALENDAR