BEGIN:VCALENDAR
VERSION:2.0
PRODID:-//Närkes ornitologiska förening - ECPv6.15.17.1//NONSGML v1.0//EN
CALSCALE:GREGORIAN
METHOD:PUBLISH
X-WR-CALNAME:Närkes ornitologiska förening
X-ORIGINAL-URL:https://nof.birdlife.se
X-WR-CALDESC:Händelser för Närkes ornitologiska förening
REFRESH-INTERVAL;VALUE=DURATION:PT1H
X-Robots-Tag:noindex
X-PUBLISHED-TTL:PT1H
BEGIN:VTIMEZONE
TZID:Europe/Stockholm
BEGIN:DAYLIGHT
TZOFFSETFROM:+0100
TZOFFSETTO:+0200
TZNAME:CEST
DTSTART:20200329T010000
END:DAYLIGHT
BEGIN:STANDARD
TZOFFSETFROM:+0200
TZOFFSETTO:+0100
TZNAME:CET
DTSTART:20201025T010000
END:STANDARD
BEGIN:DAYLIGHT
TZOFFSETFROM:+0100
TZOFFSETTO:+0200
TZNAME:CEST
DTSTART:20210328T010000
END:DAYLIGHT
BEGIN:STANDARD
TZOFFSETFROM:+0200
TZOFFSETTO:+0100
TZNAME:CET
DTSTART:20211031T010000
END:STANDARD
BEGIN:DAYLIGHT
TZOFFSETFROM:+0100
TZOFFSETTO:+0200
TZNAME:CEST
DTSTART:20220327T010000
END:DAYLIGHT
BEGIN:STANDARD
TZOFFSETFROM:+0200
TZOFFSETTO:+0100
TZNAME:CET
DTSTART:20221030T010000
END:STANDARD
END:VTIMEZONE
BEGIN:VEVENT
DTSTART;TZID=Europe/Stockholm:20210919T180000
DTEND;TZID=Europe/Stockholm:20210919T200000
DTSTAMP:20260419T204511
CREATED:20210625T212046Z
LAST-MODIFIED:20210828T114421Z
UID:7219-1632074400-1632081600@nof.birdlife.se
SUMMARY:Tranor med flera vid Kvismaren
DESCRIPTION:Söndag 19 september. Transpaning vid övernattningsplatsen i Kvismaren. Då bästa stället varierar med vattenståndet samlas vi vid Öby Kulle kl. 18:00 för transport till stället för säsongen. Temperaturen kan falla snabbt i skymningen. \nGuide: Lars Johansson\, 070 558 99 06
URL:https://nof.birdlife.se/evenemang/tranor-med-flera-vid-kvismaren-2/
LOCATION:Öby kulle\, Kvismaren
CATEGORIES:Exkursion
ATTACH;FMTTYPE=image/jpeg:https://cdn.birdlife.se/wp-content/uploads/sites/29/2021/06/Tranor-1.jpg
END:VEVENT
END:VCALENDAR