BEGIN:VCALENDAR
VERSION:2.0
PRODID:-//Närkes ornitologiska förening - ECPv6.15.17.1//NONSGML v1.0//EN
CALSCALE:GREGORIAN
METHOD:PUBLISH
X-WR-CALNAME:Närkes ornitologiska förening
X-ORIGINAL-URL:https://nof.birdlife.se
X-WR-CALDESC:Händelser för Närkes ornitologiska förening
REFRESH-INTERVAL;VALUE=DURATION:PT1H
X-Robots-Tag:noindex
X-PUBLISHED-TTL:PT1H
BEGIN:VTIMEZONE
TZID:Europe/Stockholm
BEGIN:DAYLIGHT
TZOFFSETFROM:+0100
TZOFFSETTO:+0200
TZNAME:CEST
DTSTART:20190331T010000
END:DAYLIGHT
BEGIN:STANDARD
TZOFFSETFROM:+0200
TZOFFSETTO:+0100
TZNAME:CET
DTSTART:20191027T010000
END:STANDARD
BEGIN:DAYLIGHT
TZOFFSETFROM:+0100
TZOFFSETTO:+0200
TZNAME:CEST
DTSTART:20200329T010000
END:DAYLIGHT
BEGIN:STANDARD
TZOFFSETFROM:+0200
TZOFFSETTO:+0100
TZNAME:CET
DTSTART:20201025T010000
END:STANDARD
BEGIN:DAYLIGHT
TZOFFSETFROM:+0100
TZOFFSETTO:+0200
TZNAME:CEST
DTSTART:20210328T010000
END:DAYLIGHT
BEGIN:STANDARD
TZOFFSETFROM:+0200
TZOFFSETTO:+0100
TZNAME:CET
DTSTART:20211031T010000
END:STANDARD
END:VTIMEZONE
BEGIN:VEVENT
DTSTART;TZID=Europe/Stockholm:20200816T070000
DTEND;TZID=Europe/Stockholm:20200816T113000
DTSTAMP:20260420T194625
CREATED:20200605T144442Z
LAST-MODIFIED:20200629T164825Z
UID:5670-1597561200-1597577400@nof.birdlife.se
SUMMARY:Vadarspaning i Oset
DESCRIPTION:Nu börjar det dra ihop sig för höstens stora flytt av våra sommargäster. Vi träffas vid Skebäcksparkeringen den 16 augusti kl 07.00.  En fin chans för nybörjare att gå runt med den kunniga guiden\, Lars Johansson i Oset. Ta gärna med en fika! Varmt välkommen!
URL:https://nof.birdlife.se/evenemang/vadarspaning-i-oset/
LOCATION:Oset\, Skebäcksvägen 54\, Örebro\, 702 15\, Sverige
CATEGORIES:Osetexkursion
ATTACH;FMTTYPE=image/jpeg:https://nof.birdlife.se/wp-content/uploads/sites/29/2019/03/Oset-1.jpg
END:VEVENT
END:VCALENDAR